BEGIN:VCALENDAR
VERSION:2.0
METHOD:PUBLISH
PRODID:-//Tendenci - The Open Source AMS for Associations//Tendenci Codeba
 se MIMEDIR//EN
BEGIN:VEVENT
DESCRIPTION:--- This iCal file does *NOT* confirm registration.\nEvent det
 ails subject to change. ---\nhttps://www.avantgardenhouston.com/events/1/\
 n\nEvent Title: Happy Hour\nStart Date / Time: Oct 25, 2011 17:00 PM US/Ce
 ntral\nLocation: \ncontent\n\n--- This iCal file does *NOT* confirm regist
 ration.Event details subject to change. ---\n\n--- By Tendenci - The Open 
 Source AMS for Associations ---\n
UID:uid1@avantgardenhouston.com
SUMMARY:Happy Hour
DTSTART:20111025T220000Z
DTEND:20111026T010000Z
CLASS:PUBLIC
PRIORITY:5
DTSTAMP:20260419T145735Z
TRANSP:OPAQUE
SEQUENCE:0
X-ALT-DESC;FMTTYPE=text/html:<div>--- This iCal file does *NOT* confirm re
 gistration.Event details subject to change. ---</div><h1>Event Title: Happ
 y Hour</h1><div>https://www.avantgardenhouston.com/events/1/</div><br /><d
 iv>When: Oct 25, 2011 17:00 PM US/Central</div><br /><div><p>content</p></
 div><div>--- This iCal file does *NOT* confirm registration.Event details 
 subject to change. ---</div><div>--- Tendenci&reg\; Software by <a href="h
 ttps://www.tendenci.com">tendenci.com</a> - The Open Source AMS for Associ
 ations ---</div>
BEGIN:VALARM
TRIGGER:-PT30M
ACTION:DISPLAY
DESCRIPTION:Reminder
END:VALARM
END:VEVENT
END:VCALENDAR
