BEGIN:VCALENDAR
VERSION:2.0
METHOD:PUBLISH
PRODID:-//Tendenci - The Open Source AMS for Associations//Tendenci Codeba
 se MIMEDIR//EN
BEGIN:VEVENT
DESCRIPTION:--- This iCal file does *NOT* confirm registration.\nEvent det
 ails subject to change. ---\nhttps://www.avantgardenhouston.com/events/10/
 \n\nEvent Title: Animal House 4\nStart Date / Time: Oct 28, 2011 19:03 PM 
 US/Central\nLocation: \nDjsJosh Dupont *Mike.W*Brandon Silva*Lucas Keizer*
  Dj LullabySkeeZer*Seth Jones*Amanda Robinson*Esteban Torres*NimbusLuis D.
 A*Dirty[M]*JC Vanegas*Marcus Starkist*Eric Murcia*Chanillo*Victor Delgado*
 Zach Vizza*Joey Mortman*Ice CreamFrosty's Hazing Grounds Djs *Inside******
 ************7pm-9pm Eric Murcia9pm-10pm Luis D.A + Nimbus10pm-11pm Dirty [
 M] + JC Vanegas11pm-12am Lucas Keizer + Lullaby12am-1am SkeeZer+Zach Vizza
 1am-2am Mike W.+ Marcus Starkist2am-3am Brandon Silva3am-4am Josh DupontPa
 tio of Lost Souls***************************************7pm-9pm Joey Mortm
 an9pm-10pm Ice Cream10pm- 11pm Amanda Robinson11pm-12am Seth Jones12am-1am
  Esteban Torres1am-2am Victor Delgado+Chanillo\n\n--- This iCal file does 
 *NOT* confirm registration.Event details subject to change. ---\n\n--- By 
 Tendenci - The Open Source AMS for Associations ---\n
UID:uid10@avantgardenhouston.com
SUMMARY:Animal House 4
DTSTART:20111029T000300Z
DTEND:20111029T045900Z
CLASS:PUBLIC
PRIORITY:5
DTSTAMP:20260419T145849Z
TRANSP:OPAQUE
SEQUENCE:0
X-ALT-DESC;FMTTYPE=text/html:<div>--- This iCal file does *NOT* confirm re
 gistration.Event details subject to change. ---</div><h1>Event Title: Anim
 al House 4</h1><div>https://www.avantgardenhouston.com/events/10/</div><br
  /><div>When: Oct 28, 2011 19:03 PM US/Central</div><br /><div><p>Djs<br /
 >Josh Dupont *Mike.W*Brandon Silva*Lucas Keizer* Dj Lullaby<br />SkeeZer*S
 eth Jones*Amanda Robinson*Esteban Torres*Nimbus<br />Luis D.A*Dirty[M]*JC 
 Vanegas*Marcus Starkist*Eric Murcia*Chanillo*Victor Delgado*Zach Vizza*Joe
 y Mortman*Ice Cream<br /><br /><br /><br />Frosty's Hazing Grounds Djs *In
 side******************<br />7pm-9pm Eric Murcia<br />9pm-10pm Luis D.A + N
 imbus<br />10pm-11pm Dirty [M] + JC Vanegas<br />11pm-12am Lucas Keizer + 
 Lullaby<br />12am-1am SkeeZer+Zach Vizza<br />1am-2am Mike W.+ Marcus Star
 kist<br />2am-3am Brandon Silva<br />3am-4am Josh Dupont<br /><br /><span>
 Patio of Lost Souls*********************</span>******************<br />7pm
 -9pm Joey Mortman<br />9pm-10pm Ice Cream<br />10pm- 11pm Amanda Robinson<
 br />11pm-12am Seth Jones<br />12am-1am Esteban Torres<br />1am-2am Victor
  Delgado+Chanillo</p></div><div>--- This iCal file does *NOT* confirm regi
 stration.Event details subject to change. ---</div><div>--- Tendenci&reg\;
  Software by <a href="https://www.tendenci.com">tendenci.com</a> - The Ope
 n Source AMS for Associations ---</div>
BEGIN:VALARM
TRIGGER:-PT30M
ACTION:DISPLAY
DESCRIPTION:Reminder
END:VALARM
END:VEVENT
END:VCALENDAR
