BEGIN:VCALENDAR
VERSION:2.0
METHOD:PUBLISH
PRODID:-//Tendenci - The Open Source AMS for Associations//Tendenci Codeba
 se MIMEDIR//EN
BEGIN:VEVENT
DESCRIPTION:--- This iCal file does *NOT* confirm registration.\nEvent det
 ails subject to change. ---\nhttps://www.avantgardenhouston.com/events/100
 2/\n\nEvent Title: wedding. Private party. closed to the public\nStart Dat
 e / Time: Nov 09, 2013 00:00 AM GMT\nLocation: \n\n\n--- This iCal file do
 es *NOT* confirm registration.Event details subject to change. ---\n\n--- 
 By Tendenci - The Open Source AMS for Associations ---\n
UID:uid1002@avantgardenhouston.com
SUMMARY:wedding. Private party. closed to the public
DTSTART:20131109T000000Z
DTEND:20131109T235900Z
CLASS:PUBLIC
PRIORITY:5
DTSTAMP:20260420T192906Z
TRANSP:OPAQUE
SEQUENCE:0
X-ALT-DESC;FMTTYPE=text/html:<div>--- This iCal file does *NOT* confirm re
 gistration.Event details subject to change. ---</div><h1>Event Title: wedd
 ing. Private party. closed to the public</h1><div>https://www.avantgardenh
 ouston.com/events/1002/</div><br /><div>When: Nov 09, 2013 00:00 AM GMT</d
 iv><br /><div></div><div>--- This iCal file does *NOT* confirm registratio
 n.Event details subject to change. ---</div><div>--- Tendenci&reg\; Softwa
 re by <a href="https://www.tendenci.com">tendenci.com</a> - The Open Sourc
 e AMS for Associations ---</div>
BEGIN:VALARM
TRIGGER:-PT30M
ACTION:DISPLAY
DESCRIPTION:Reminder
END:VALARM
END:VEVENT
END:VCALENDAR
