BEGIN:VCALENDAR
VERSION:2.0
METHOD:PUBLISH
PRODID:-//Tendenci - The Open Source AMS for Associations//Tendenci Codeba
 se MIMEDIR//EN
BEGIN:VEVENT
DESCRIPTION:--- This iCal file does *NOT* confirm registration.\nEvent det
 ails subject to change. ---\nhttps://www.avantgardenhouston.com/events/102
 /\n\nEvent Title: Music and Poetry night\nStart Date / Time: Nov 20, 2011 
 21:00 PM US/Central\nLocation: \n\nThe Poetry Co. PresentsKen Jones Poetry
  at the PianoMike Alvarez of NotRecordsTapesPoetry by The Poetry Co.\n \n9
 pm\n\n\n--- This iCal file does *NOT* confirm registration.Event details s
 ubject to change. ---\n\n--- By Tendenci - The Open Source AMS for Associa
 tions ---\n
UID:uid102@avantgardenhouston.com
SUMMARY:Music and Poetry night
DTSTART:20111121T030000Z
DTEND:20111121T053000Z
CLASS:PUBLIC
PRIORITY:5
DTSTAMP:20260419T145918Z
TRANSP:OPAQUE
SEQUENCE:0
X-ALT-DESC;FMTTYPE=text/html:<div>--- This iCal file does *NOT* confirm re
 gistration.Event details subject to change. ---</div><h1>Event Title: Musi
 c and Poetry night</h1><div>https://www.avantgardenhouston.com/events/102/
 </div><br /><div>When: Nov 20, 2011 21:00 PM US/Central</div><br /><div><p
 > <div>The Poetry Co. Presents<br />Ken Jones Poetry at the Piano<br />Mik
 e Alvarez of NotRecordsTapes<br />Poetry by The Poetry Co.</div> <div>&nbs
 p\;</div> <div><span id="lw_1321816522_4" class="yshortcuts">9pm</span></d
 iv> </p></div><div>--- This iCal file does *NOT* confirm registration.Even
 t details subject to change. ---</div><div>--- Tendenci&reg\; Software by 
 <a href="https://www.tendenci.com">tendenci.com</a> - The Open Source AMS 
 for Associations ---</div>
BEGIN:VALARM
TRIGGER:-PT30M
ACTION:DISPLAY
DESCRIPTION:Reminder
END:VALARM
END:VEVENT
END:VCALENDAR
