BEGIN:VCALENDAR
VERSION:2.0
METHOD:PUBLISH
PRODID:-//Tendenci - The Open Source AMS for Associations//Tendenci Codeba
 se MIMEDIR//EN
BEGIN:VEVENT
DESCRIPTION:--- This iCal file does *NOT* confirm registration.\nEvent det
 ails subject to change. ---\nhttps://www.avantgardenhouston.com/events/104
 8/\n\nEvent Title:  Wedding. Private party. closed to the public\nStart Da
 te / Time: Apr 05, 2014 00:00 AM GMT\nLocation: \n\n\n--- This iCal file d
 oes *NOT* confirm registration.Event details subject to change. ---\n\n---
  By Tendenci - The Open Source AMS for Associations ---\n
UID:uid1048@avantgardenhouston.com
SUMMARY: Wedding. Private party. closed to the public
DTSTART:20140405T000000Z
DTEND:20140405T235900Z
CLASS:PUBLIC
PRIORITY:5
DTSTAMP:20260421T001041Z
TRANSP:OPAQUE
SEQUENCE:0
X-ALT-DESC;FMTTYPE=text/html:<div>--- This iCal file does *NOT* confirm re
 gistration.Event details subject to change. ---</div><h1>Event Title:  Wed
 ding. Private party. closed to the public</h1><div>https://www.avantgarden
 houston.com/events/1048/</div><br /><div>When: Apr 05, 2014 00:00 AM GMT</
 div><br /><div></div><div>--- This iCal file does *NOT* confirm registrati
 on.Event details subject to change. ---</div><div>--- Tendenci&reg\; Softw
 are by <a href="https://www.tendenci.com">tendenci.com</a> - The Open Sour
 ce AMS for Associations ---</div>
BEGIN:VALARM
TRIGGER:-PT30M
ACTION:DISPLAY
DESCRIPTION:Reminder
END:VALARM
END:VEVENT
END:VCALENDAR
