BEGIN:VCALENDAR
VERSION:2.0
METHOD:PUBLISH
PRODID:-//Tendenci - The Open Source AMS for Associations//Tendenci Codeba
 se MIMEDIR//EN
BEGIN:VEVENT
DESCRIPTION:--- This iCal file does *NOT* confirm registration.\nEvent det
 ails subject to change. ---\nhttps://www.avantgardenhouston.com/events/106
 5/\n\nEvent Title: the last Saturday of 2013! let's celebrate an interesti
 ng year!\nStart Date / Time: Dec 28, 2013 21:00 PM US/Central\nLocation: A
 vantGarden  \nIt's been an interesting year \nSome good things happened, s
 ome sad things too\nBut every moment was worth living.\nSo we call our fri
 ends to toast with us tonight.\nMany drink specials will be served.\nCheck
  out our beer selection, lots of Texas micro brewed draft, $3 a pint\nHope
  to see you friends!!\n\n--- This iCal file does *NOT* confirm registratio
 n.Event details subject to change. ---\n\n--- By Tendenci - The Open Sourc
 e AMS for Associations ---\n
UID:uid1065@avantgardenhouston.com
SUMMARY:the last Saturday of 2013! let's celebrate an interesting year!
DTSTART:20131229T030000Z
DTEND:20131229T055900Z
CLASS:PUBLIC
PRIORITY:5
DTSTAMP:20260421T033459Z
TRANSP:OPAQUE
SEQUENCE:0
LOCATION:AvantGarden  
X-ALT-DESC;FMTTYPE=text/html:<div>--- This iCal file does *NOT* confirm re
 gistration.Event details subject to change. ---</div><h1>Event Title: the 
 last Saturday of 2013! let's celebrate an interesting year!</h1><div>https
 ://www.avantgardenhouston.com/events/1065/</div><br /><div>When: Dec 28, 2
 013 21:00 PM US/Central</div><br /><div><p>It's been an interesting year&n
 bsp\;</p> <p>Some good things happened, some sad things too</p> <p>But eve
 ry moment was worth living.</p> <p>So we call our friends to toast with us
  tonight.</p> <p>Many drink specials will be served.</p> <p>Check out our 
 beer selection, lots of Texas micro brewed draft, $3 a pint</p> <p>Hope to
  see you friends!!</p></div><div>--- This iCal file does *NOT* confirm reg
 istration.Event details subject to change. ---</div><div>--- Tendenci&reg\
 ; Software by <a href="https://www.tendenci.com">tendenci.com</a> - The Op
 en Source AMS for Associations ---</div>
BEGIN:VALARM
TRIGGER:-PT30M
ACTION:DISPLAY
DESCRIPTION:Reminder
END:VALARM
END:VEVENT
END:VCALENDAR
