BEGIN:VCALENDAR
VERSION:2.0
METHOD:PUBLISH
PRODID:-//Tendenci - The Open Source AMS for Associations//Tendenci Codeba
 se MIMEDIR//EN
BEGIN:VEVENT
DESCRIPTION:--- This iCal file does *NOT* confirm registration.\nEvent det
 ails subject to change. ---\nhttps://www.avantgardenhouston.com/events/110
 /\n\nEvent Title: Happy Hour\nStart Date / Time: Dec 07, 2011 18:00 PM US/
 Central\nLocation: \nWeekdays from 6PM till 8PM $3 Mixed drinks\n$2 Domest
 ic Drafts\n$4 Homemade Sangria\n$15 Bottle of selected wines.\nLive PianoE
 xcellent Tacos served by El Palomo taqueria!\n\n--- This iCal file does *N
 OT* confirm registration.Event details subject to change. ---\n\n--- By Te
 ndenci - The Open Source AMS for Associations ---\n
UID:uid110@avantgardenhouston.com
SUMMARY:Happy Hour
DTSTART:20111208T000000Z
DTEND:20111208T020000Z
CLASS:PUBLIC
PRIORITY:5
DTSTAMP:20260419T182053Z
TRANSP:OPAQUE
SEQUENCE:0
X-ALT-DESC;FMTTYPE=text/html:<div>--- This iCal file does *NOT* confirm re
 gistration.Event details subject to change. ---</div><h1>Event Title: Happ
 y Hour</h1><div>https://www.avantgardenhouston.com/events/110/</div><br />
 <div>When: Dec 07, 2011 18:00 PM US/Central</div><br /><div><p>Weekdays fr
 om 6PM till 8PM<br />&nbsp\;<br />$3 Mixed drinks</p> <p>$2 Domestic Draft
 s</p> <p>$4 Homemade Sangria</p> <p>$15 Bottle of selected wines.</p> <p>L
 ive Piano<br />Excellent Tacos served by El Palomo taqueria!</p></div><div
 >--- This iCal file does *NOT* confirm registration.Event details subject 
 to change. ---</div><div>--- Tendenci&reg\; Software by <a href="https://w
 ww.tendenci.com">tendenci.com</a> - The Open Source AMS for Associations -
 --</div>
BEGIN:VALARM
TRIGGER:-PT30M
ACTION:DISPLAY
DESCRIPTION:Reminder
END:VALARM
END:VEVENT
END:VCALENDAR
