BEGIN:VCALENDAR
VERSION:2.0
METHOD:PUBLISH
PRODID:-//Tendenci - The Open Source AMS for Associations//Tendenci Codeba
 se MIMEDIR//EN
BEGIN:VEVENT
DESCRIPTION:--- This iCal file does *NOT* confirm registration.\nEvent det
 ails subject to change. ---\nhttps://www.avantgardenhouston.com/events/111
 6/\n\nEvent Title: 6:00 Keith Area 7:00 Hazy Ray +8:00 Willy Collins9:00 D
 isfrutalo, 10:00 Inzurgo, and 11:00 Closed Eyes Open\nStart Date / Time: M
 ar 14, 2014 18:00 PM America/Chicago\nLocation: AvantGarden  \n6:00 Keith 
 Area 7:00 Hazy Ray 8:00 Willy Collins 9:00 Disfrutalo, 10:00 Inzurgo, and 
 11:00 Closed Eyes Open\n\n--- This iCal file does *NOT* confirm registrati
 on.Event details subject to change. ---\n\n--- By Tendenci - The Open Sour
 ce AMS for Associations ---\n
UID:uid1116@avantgardenhouston.com
SUMMARY:6:00 Keith Area 7:00 Hazy Ray +8:00 Willy Collins9:00 Disfrutalo, 10:00 Inzurgo, and 11:00 Closed Eyes Open
DTSTART:20140314T230000Z
DTEND:20140315T043000Z
CLASS:PUBLIC
PRIORITY:5
DTSTAMP:20260421T051113Z
TRANSP:OPAQUE
SEQUENCE:0
LOCATION:AvantGarden  
X-ALT-DESC;FMTTYPE=text/html:<div>--- This iCal file does *NOT* confirm re
 gistration.Event details subject to change. ---</div><h1>Event Title: 6:00
  Keith Area 7:00 Hazy Ray +8:00 Willy Collins9:00 Disfrutalo, 10:00 Inzurg
 o, and 11:00 Closed Eyes Open</h1><div>https://www.avantgardenhouston.com/
 events/1116/</div><br /><div>When: Mar 14, 2014 18:00 PM America/Chicago</
 div><br /><div><p>6:00 Keith Area 7:00 Hazy Ray 8:00 Willy Collins 9:00 Di
 sfrutalo, 10:00 Inzurgo, and 11:00 Closed Eyes Open</p></div><div>--- This
  iCal file does *NOT* confirm registration.Event details subject to change
 . ---</div><div>--- Tendenci&reg\; Software by <a href="https://www.tenden
 ci.com">tendenci.com</a> - The Open Source AMS for Associations ---</div>
BEGIN:VALARM
TRIGGER:-PT30M
ACTION:DISPLAY
DESCRIPTION:Reminder
END:VALARM
END:VEVENT
END:VCALENDAR
