BEGIN:VCALENDAR
VERSION:2.0
METHOD:PUBLISH
PRODID:-//Tendenci - The Open Source AMS for Associations//Tendenci Codeba
 se MIMEDIR//EN
BEGIN:VEVENT
DESCRIPTION:--- This iCal file does *NOT* confirm registration.\nEvent det
 ails subject to change. ---\nhttps://www.avantgardenhouston.com/events/112
 /\n\nEvent Title: Full Melt Tour 2011\nStart Date / Time: Dec 08, 2011 20:
 00 PM US/Central\nLocation: Upstairs Listening room\n\n\n\nNosapriseDay-Go
  Produce (Ca)Highdro (NV)Parker &amp\; The Numberman(Ca)Purple Brown (Ca)\
 n\n\n\n--- This iCal file does *NOT* confirm registration.Event details su
 bject to change. ---\n\n--- By Tendenci - The Open Source AMS for Associat
 ions ---\n
UID:uid112@avantgardenhouston.com
SUMMARY:Full Melt Tour 2011
DTSTART:20111209T020000Z
DTEND:20111209T053000Z
CLASS:PUBLIC
PRIORITY:5
DTSTAMP:20260419T182022Z
TRANSP:OPAQUE
SEQUENCE:0
LOCATION:Upstairs Listening room
X-ALT-DESC;FMTTYPE=text/html:<div>--- This iCal file does *NOT* confirm re
 gistration.Event details subject to change. ---</div><h1>Event Title: Full
  Melt Tour 2011</h1><div>https://www.avantgardenhouston.com/events/112/</d
 iv><br /><div>When: Dec 08, 2011 20:00 PM US/Central</div><br /><div><p> <
 div class="im"></div> <div> <div class="im">Nosaprise<br />Day-Go Produce 
 (Ca)<br />Highdro (NV)<br />Parker &amp\; The Numberman(Ca)<br />Purple Br
 own (Ca)</div> </div> </p></div><div>--- This iCal file does *NOT* confirm
  registration.Event details subject to change. ---</div><div>--- Tendenci&
 reg\; Software by <a href="https://www.tendenci.com">tendenci.com</a> - Th
 e Open Source AMS for Associations ---</div>
BEGIN:VALARM
TRIGGER:-PT30M
ACTION:DISPLAY
DESCRIPTION:Reminder
END:VALARM
END:VEVENT
END:VCALENDAR
