BEGIN:VCALENDAR
VERSION:2.0
METHOD:PUBLISH
PRODID:-//Tendenci - The Open Source AMS for Associations//Tendenci Codeba
 se MIMEDIR//EN
BEGIN:VEVENT
DESCRIPTION:--- This iCal file does *NOT* confirm registration.\nEvent det
 ails subject to change. ---\nhttps://www.avantgardenhouston.com/events/112
 2/\n\nEvent Title: END OF THE RAINBOW- PRIDE PARTY\nStart Date / Time: Jun
  28, 2014 10:00 AM US/Central\nLocation: \n\n\n--- This iCal file does *NO
 T* confirm registration.Event details subject to change. ---\n\n--- By Ten
 denci - The Open Source AMS for Associations ---\n
UID:uid1122@avantgardenhouston.com
SUMMARY:END OF THE RAINBOW- PRIDE PARTY
DTSTART:20140628T150000Z
DTEND:20140628T170000Z
CLASS:PUBLIC
PRIORITY:5
DTSTAMP:20260421T082246Z
TRANSP:OPAQUE
SEQUENCE:0
X-ALT-DESC;FMTTYPE=text/html:<div>--- This iCal file does *NOT* confirm re
 gistration.Event details subject to change. ---</div><h1>Event Title: END 
 OF THE RAINBOW- PRIDE PARTY</h1><div>https://www.avantgardenhouston.com/ev
 ents/1122/</div><br /><div>When: Jun 28, 2014 10:00 AM US/Central</div><br
  /><div></div><div>--- This iCal file does *NOT* confirm registration.Even
 t details subject to change. ---</div><div>--- Tendenci&reg\; Software by 
 <a href="https://www.tendenci.com">tendenci.com</a> - The Open Source AMS 
 for Associations ---</div>
BEGIN:VALARM
TRIGGER:-PT30M
ACTION:DISPLAY
DESCRIPTION:Reminder
END:VALARM
END:VEVENT
END:VCALENDAR
