BEGIN:VCALENDAR
VERSION:2.0
METHOD:PUBLISH
PRODID:-//Tendenci - The Open Source AMS for Associations//Tendenci Codeba
 se MIMEDIR//EN
BEGIN:VEVENT
DESCRIPTION:--- This iCal file does *NOT* confirm registration.\nEvent det
 ails subject to change. ---\nhttps://www.avantgardenhouston.com/events/112
 9/\n\nEvent Title: Wedding. Closed to the public\nStart Date / Time: Oct 1
 0, 2014 10:00 AM US/Central\nLocation: \n\n\n--- This iCal file does *NOT*
  confirm registration.Event details subject to change. ---\n\n--- By Tende
 nci - The Open Source AMS for Associations ---\n
UID:uid1129@avantgardenhouston.com
SUMMARY:Wedding. Closed to the public
DTSTART:20141010T150000Z
DTEND:20141010T170000Z
CLASS:PUBLIC
PRIORITY:5
DTSTAMP:20260421T111722Z
TRANSP:OPAQUE
SEQUENCE:0
X-ALT-DESC;FMTTYPE=text/html:<div>--- This iCal file does *NOT* confirm re
 gistration.Event details subject to change. ---</div><h1>Event Title: Wedd
 ing. Closed to the public</h1><div>https://www.avantgardenhouston.com/even
 ts/1129/</div><br /><div>When: Oct 10, 2014 10:00 AM US/Central</div><br /
 ><div></div><div>--- This iCal file does *NOT* confirm registration.Event 
 details subject to change. ---</div><div>--- Tendenci&reg\; Software by <a
  href="https://www.tendenci.com">tendenci.com</a> - The Open Source AMS fo
 r Associations ---</div>
BEGIN:VALARM
TRIGGER:-PT30M
ACTION:DISPLAY
DESCRIPTION:Reminder
END:VALARM
END:VEVENT
END:VCALENDAR
