BEGIN:VCALENDAR
VERSION:2.0
METHOD:PUBLISH
PRODID:-//Tendenci - The Open Source AMS for Associations//Tendenci Codeba
 se MIMEDIR//EN
BEGIN:VEVENT
DESCRIPTION:--- This iCal file does *NOT* confirm registration.\nEvent det
 ails subject to change. ---\nhttps://www.avantgardenhouston.com/events/114
 /\n\nEvent Title: The Silence and The Dani Vargas Trio\nStart Date / Time:
  Dec 30, 2011 20:30 PM US/Central\nLocation: \n\n\n--- This iCal file does
  *NOT* confirm registration.Event details subject to change. ---\n\n--- By
  Tendenci - The Open Source AMS for Associations ---\n
UID:uid114@avantgardenhouston.com
SUMMARY:The Silence and The Dani Vargas Trio
DTSTART:20111231T023000Z
DTEND:20111231T053000Z
CLASS:PUBLIC
PRIORITY:5
DTSTAMP:20260419T164222Z
TRANSP:OPAQUE
SEQUENCE:0
X-ALT-DESC;FMTTYPE=text/html:<div>--- This iCal file does *NOT* confirm re
 gistration.Event details subject to change. ---</div><h1>Event Title: The 
 Silence and The Dani Vargas Trio</h1><div>https://www.avantgardenhouston.c
 om/events/114/</div><br /><div>When: Dec 30, 2011 20:30 PM US/Central</div
 ><br /><div></div><div>--- This iCal file does *NOT* confirm registration.
 Event details subject to change. ---</div><div>--- Tendenci&reg\; Software
  by <a href="https://www.tendenci.com">tendenci.com</a> - The Open Source 
 AMS for Associations ---</div>
BEGIN:VALARM
TRIGGER:-PT30M
ACTION:DISPLAY
DESCRIPTION:Reminder
END:VALARM
END:VEVENT
END:VCALENDAR
