BEGIN:VCALENDAR
VERSION:2.0
METHOD:PUBLISH
PRODID:-//Tendenci - The Open Source AMS for Associations//Tendenci Codeba
 se MIMEDIR//EN
BEGIN:VEVENT
DESCRIPTION:--- This iCal file does *NOT* confirm registration.\nEvent det
 ails subject to change. ---\nhttps://www.avantgardenhouston.com/events/115
 /\n\nEvent Title: The Core Trio and Cindy Scott\nStart Date / Time: Dec 22
 , 2011 19:00 PM US/Central\nLocation: Upstairs Listening room\n\n\n--- Thi
 s iCal file does *NOT* confirm registration.Event details subject to chang
 e. ---\n\n--- By Tendenci - The Open Source AMS for Associations ---\n
UID:uid115@avantgardenhouston.com
SUMMARY:The Core Trio and Cindy Scott
DTSTART:20111223T010000Z
DTEND:20111223T053000Z
CLASS:PUBLIC
PRIORITY:5
DTSTAMP:20260419T164201Z
TRANSP:OPAQUE
SEQUENCE:0
LOCATION:Upstairs Listening room
X-ALT-DESC;FMTTYPE=text/html:<div>--- This iCal file does *NOT* confirm re
 gistration.Event details subject to change. ---</div><h1>Event Title: The 
 Core Trio and Cindy Scott</h1><div>https://www.avantgardenhouston.com/even
 ts/115/</div><br /><div>When: Dec 22, 2011 19:00 PM US/Central</div><br />
 <div></div><div>--- This iCal file does *NOT* confirm registration.Event d
 etails subject to change. ---</div><div>--- Tendenci&reg\; Software by <a 
 href="https://www.tendenci.com">tendenci.com</a> - The Open Source AMS for
  Associations ---</div>
BEGIN:VALARM
TRIGGER:-PT30M
ACTION:DISPLAY
DESCRIPTION:Reminder
END:VALARM
END:VEVENT
END:VCALENDAR
