BEGIN:VCALENDAR
VERSION:2.0
METHOD:PUBLISH
PRODID:-//Tendenci - The Open Source AMS for Associations//Tendenci Codeba
 se MIMEDIR//EN
BEGIN:VEVENT
DESCRIPTION:--- This iCal file does *NOT* confirm registration.\nEvent det
 ails subject to change. ---\nhttps://www.avantgardenhouston.com/events/115
 2/\n\nEvent Title: Private party. closed to the public\nStart Date / Time:
  Jun 13, 2014 00:00 AM GMT\nLocation: AvantGarden  \n\n\n--- This iCal fil
 e does *NOT* confirm registration.Event details subject to change. ---\n\n
 --- By Tendenci - The Open Source AMS for Associations ---\n
UID:uid1152@avantgardenhouston.com
SUMMARY:Private party. closed to the public
DTSTART:20140613T000000Z
DTEND:20140613T235900Z
CLASS:PUBLIC
PRIORITY:5
DTSTAMP:20260421T014204Z
TRANSP:OPAQUE
SEQUENCE:0
LOCATION:AvantGarden  
X-ALT-DESC;FMTTYPE=text/html:<div>--- This iCal file does *NOT* confirm re
 gistration.Event details subject to change. ---</div><h1>Event Title: Priv
 ate party. closed to the public</h1><div>https://www.avantgardenhouston.co
 m/events/1152/</div><br /><div>When: Jun 13, 2014 00:00 AM GMT</div><br />
 <div></div><div>--- This iCal file does *NOT* confirm registration.Event d
 etails subject to change. ---</div><div>--- Tendenci&reg\; Software by <a 
 href="https://www.tendenci.com">tendenci.com</a> - The Open Source AMS for
  Associations ---</div>
BEGIN:VALARM
TRIGGER:-PT30M
ACTION:DISPLAY
DESCRIPTION:Reminder
END:VALARM
END:VEVENT
END:VCALENDAR
