BEGIN:VCALENDAR
VERSION:2.0
METHOD:PUBLISH
PRODID:-//Tendenci - The Open Source AMS for Associations//Tendenci Codeba
 se MIMEDIR//EN
BEGIN:VEVENT
DESCRIPTION:--- This iCal file does *NOT* confirm registration.\nEvent det
 ails subject to change. ---\nhttps://www.avantgardenhouston.com/events/118
 /\n\nEvent Title: Tiziano and Leatherbag\nStart Date / Time: Jan 21, 2012 
 21:15 PM US/Central\nLocation: \n\n\n--- This iCal file does *NOT* confirm
  registration.Event details subject to change. ---\n\n--- By Tendenci - Th
 e Open Source AMS for Associations ---\n
UID:uid118@avantgardenhouston.com
SUMMARY:Tiziano and Leatherbag
DTSTART:20120122T031500Z
DTEND:20120122T055900Z
CLASS:PUBLIC
PRIORITY:5
DTSTAMP:20260419T164330Z
TRANSP:OPAQUE
SEQUENCE:0
X-ALT-DESC;FMTTYPE=text/html:<div>--- This iCal file does *NOT* confirm re
 gistration.Event details subject to change. ---</div><h1>Event Title: Tizi
 ano and Leatherbag</h1><div>https://www.avantgardenhouston.com/events/118/
 </div><br /><div>When: Jan 21, 2012 21:15 PM US/Central</div><br /><div></
 div><div>--- This iCal file does *NOT* confirm registration.Event details 
 subject to change. ---</div><div>--- Tendenci&reg\; Software by <a href="h
 ttps://www.tendenci.com">tendenci.com</a> - The Open Source AMS for Associ
 ations ---</div>
BEGIN:VALARM
TRIGGER:-PT30M
ACTION:DISPLAY
DESCRIPTION:Reminder
END:VALARM
END:VEVENT
END:VCALENDAR
