BEGIN:VCALENDAR
VERSION:2.0
METHOD:PUBLISH
PRODID:-//Tendenci - The Open Source AMS for Associations//Tendenci Codeba
 se MIMEDIR//EN
BEGIN:VEVENT
DESCRIPTION:--- This iCal file does *NOT* confirm registration.\nEvent det
 ails subject to change. ---\nhttps://www.avantgardenhouston.com/events/125
 /\n\nEvent Title: wedding\nStart Date / Time: Jan 07, 2012 23:30 PM US/Cen
 tral\nLocation: \nprivate event\n\n--- This iCal file does *NOT* confirm r
 egistration.Event details subject to change. ---\n\n--- By Tendenci - The 
 Open Source AMS for Associations ---\n
UID:uid125@avantgardenhouston.com
SUMMARY:wedding
DTSTART:20120108T053000Z
DTEND:20120108T053000Z
CLASS:PUBLIC
PRIORITY:5
DTSTAMP:20260419T164218Z
TRANSP:OPAQUE
SEQUENCE:0
X-ALT-DESC;FMTTYPE=text/html:<div>--- This iCal file does *NOT* confirm re
 gistration.Event details subject to change. ---</div><h1>Event Title: wedd
 ing</h1><div>https://www.avantgardenhouston.com/events/125/</div><br /><di
 v>When: Jan 07, 2012 23:30 PM US/Central</div><br /><div><p>private event<
 /p></div><div>--- This iCal file does *NOT* confirm registration.Event det
 ails subject to change. ---</div><div>--- Tendenci&reg\; Software by <a hr
 ef="https://www.tendenci.com">tendenci.com</a> - The Open Source AMS for A
 ssociations ---</div>
BEGIN:VALARM
TRIGGER:-PT30M
ACTION:DISPLAY
DESCRIPTION:Reminder
END:VALARM
END:VEVENT
END:VCALENDAR
