BEGIN:VCALENDAR
VERSION:2.0
METHOD:PUBLISH
PRODID:-//Tendenci - The Open Source AMS for Associations//Tendenci Codeba
 se MIMEDIR//EN
BEGIN:VEVENT
DESCRIPTION:--- This iCal file does *NOT* confirm registration.\nEvent det
 ails subject to change. ---\nhttps://www.avantgardenhouston.com/events/13/
 \n\nEvent Title: Wedding Ceremony\nStart Date / Time: Oct 22, 2011 15:33 P
 M US/Central\nLocation: \nTonight we have a private party until 10pm.\nPle
 ase come after 10, or visit us from Sunday trough Friday, from 5 till 2AM.
 \n\n--- This iCal file does *NOT* confirm registration.Event details subje
 ct to change. ---\n\n--- By Tendenci - The Open Source AMS for Association
 s ---\n
UID:uid13@avantgardenhouston.com
SUMMARY:Wedding Ceremony
DTSTART:20111022T203300Z
DTEND:20111023T030000Z
CLASS:PUBLIC
PRIORITY:5
DTSTAMP:20260419T145828Z
TRANSP:OPAQUE
SEQUENCE:0
X-ALT-DESC;FMTTYPE=text/html:<div>--- This iCal file does *NOT* confirm re
 gistration.Event details subject to change. ---</div><h1>Event Title: Wedd
 ing Ceremony</h1><div>https://www.avantgardenhouston.com/events/13/</div><
 br /><div>When: Oct 22, 2011 15:33 PM US/Central</div><br /><div><p>Tonigh
 t we have a private party until 10pm.</p> <p>Please come after 10, or visi
 t us from Sunday trough Friday, from 5 till 2AM.</p></div><div>--- This iC
 al file does *NOT* confirm registration.Event details subject to change. -
 --</div><div>--- Tendenci&reg\; Software by <a href="https://www.tendenci.
 com">tendenci.com</a> - The Open Source AMS for Associations ---</div>
BEGIN:VALARM
TRIGGER:-PT30M
ACTION:DISPLAY
DESCRIPTION:Reminder
END:VALARM
END:VEVENT
END:VCALENDAR
