BEGIN:VCALENDAR
VERSION:2.0
METHOD:PUBLISH
PRODID:-//Tendenci - The Open Source AMS for Associations//Tendenci Codeba
 se MIMEDIR//EN
BEGIN:VEVENT
DESCRIPTION:--- This iCal file does *NOT* confirm registration.\nEvent det
 ails subject to change. ---\nhttps://www.avantgardenhouston.com/events/139
 /\n\nEvent Title: Hank Schyma 9PM\nStart Date / Time: Jan 18, 2012 21:00 P
 M US/Central\nLocation: \n\n\n--- This iCal file does *NOT* confirm regist
 ration.Event details subject to change. ---\n\n--- By Tendenci - The Open 
 Source AMS for Associations ---\n
UID:uid139@avantgardenhouston.com
SUMMARY:Hank Schyma 9PM
DTSTART:20120119T030000Z
DTEND:20120119T053000Z
CLASS:PUBLIC
PRIORITY:5
DTSTAMP:20260419T164220Z
TRANSP:OPAQUE
SEQUENCE:0
X-ALT-DESC;FMTTYPE=text/html:<div>--- This iCal file does *NOT* confirm re
 gistration.Event details subject to change. ---</div><h1>Event Title: Hank
  Schyma 9PM</h1><div>https://www.avantgardenhouston.com/events/139/</div><
 br /><div>When: Jan 18, 2012 21:00 PM US/Central</div><br /><div></div><di
 v>--- This iCal file does *NOT* confirm registration.Event details subject
  to change. ---</div><div>--- Tendenci&reg\; Software by <a href="https://
 www.tendenci.com">tendenci.com</a> - The Open Source AMS for Associations 
 ---</div>
BEGIN:VALARM
TRIGGER:-PT30M
ACTION:DISPLAY
DESCRIPTION:Reminder
END:VALARM
END:VEVENT
END:VCALENDAR
