BEGIN:VCALENDAR
VERSION:2.0
METHOD:PUBLISH
PRODID:-//Tendenci - The Open Source AMS for Associations//Tendenci Codeba
 se MIMEDIR//EN
BEGIN:VEVENT
DESCRIPTION:--- This iCal file does *NOT* confirm registration.\nEvent det
 ails subject to change. ---\nhttps://www.avantgardenhouston.com/events/14/
 \n\nEvent Title: Helios Tango Club\nStart Date / Time: Oct 23, 2011 20:00 
 PM US/Central\nLocation: \n\n\n--- This iCal file does *NOT* confirm regis
 tration.Event details subject to change. ---\n\n--- By Tendenci - The Open
  Source AMS for Associations ---\n
UID:uid14@avantgardenhouston.com
SUMMARY:Helios Tango Club
DTSTART:20111024T010000Z
DTEND:20111024T040000Z
CLASS:PUBLIC
PRIORITY:5
DTSTAMP:20260419T145822Z
TRANSP:OPAQUE
SEQUENCE:0
X-ALT-DESC;FMTTYPE=text/html:<div>--- This iCal file does *NOT* confirm re
 gistration.Event details subject to change. ---</div><h1>Event Title: Heli
 os Tango Club</h1><div>https://www.avantgardenhouston.com/events/14/</div>
 <br /><div>When: Oct 23, 2011 20:00 PM US/Central</div><br /><div></div><d
 iv>--- This iCal file does *NOT* confirm registration.Event details subjec
 t to change. ---</div><div>--- Tendenci&reg\; Software by <a href="https:/
 /www.tendenci.com">tendenci.com</a> - The Open Source AMS for Associations
  ---</div>
BEGIN:VALARM
TRIGGER:-PT30M
ACTION:DISPLAY
DESCRIPTION:Reminder
END:VALARM
END:VEVENT
END:VCALENDAR
