BEGIN:VCALENDAR
VERSION:2.0
METHOD:PUBLISH
PRODID:-//Tendenci - The Open Source AMS for Associations//Tendenci Codeba
 se MIMEDIR//EN
BEGIN:VEVENT
DESCRIPTION:--- This iCal file does *NOT* confirm registration.\nEvent det
 ails subject to change. ---\nhttps://www.avantgardenhouston.com/events/147
 4/\n\nEvent Title: Wedding. Private Event\nStart Date / Time: Oct 08, 2016
  10:00 AM US/Central\nLocation: \n\n\n--- This iCal file does *NOT* confir
 m registration.Event details subject to change. ---\n\n--- By Tendenci - T
 he Open Source AMS for Associations ---\n
UID:uid1474@avantgardenhouston.com
SUMMARY:Wedding. Private Event
DTSTART:20161008T150000Z
DTEND:20161009T044500Z
CLASS:PUBLIC
PRIORITY:5
DTSTAMP:20260421T063338Z
TRANSP:OPAQUE
SEQUENCE:0
X-ALT-DESC;FMTTYPE=text/html:<div>--- This iCal file does *NOT* confirm re
 gistration.Event details subject to change. ---</div><h1>Event Title: Wedd
 ing. Private Event</h1><div>https://www.avantgardenhouston.com/events/1474
 /</div><br /><div>When: Oct 08, 2016 10:00 AM US/Central</div><br /><div><
 /div><div>--- This iCal file does *NOT* confirm registration.Event details
  subject to change. ---</div><div>--- Tendenci&reg\; Software by <a href="
 https://www.tendenci.com">tendenci.com</a> - The Open Source AMS for Assoc
 iations ---</div>
BEGIN:VALARM
TRIGGER:-PT30M
ACTION:DISPLAY
DESCRIPTION:Reminder
END:VALARM
END:VEVENT
END:VCALENDAR
