BEGIN:VCALENDAR
VERSION:2.0
METHOD:PUBLISH
PRODID:-//Tendenci - The Open Source AMS for Associations//Tendenci Codeba
 se MIMEDIR//EN
BEGIN:VEVENT
DESCRIPTION:--- This iCal file does *NOT* confirm registration.\nEvent det
 ails subject to change. ---\nhttps://www.avantgardenhouston.com/events/15/
 \n\nEvent Title: Happy Hour\nStart Date / Time: Nov 02, 2011 18:00 PM US/C
 entral\nLocation: \nWeekdays from 5PM till 8PM $3 Mixed drinks\n \n$2 Dome
 stic Drafts\n$4 Homemade Sangria\n$15 Bottle of selected wines.\nLive Pian
 oExcellent Tacos served by El Palomo taqueria!\n\n--- This iCal file does 
 *NOT* confirm registration.Event details subject to change. ---\n\n--- By 
 Tendenci - The Open Source AMS for Associations ---\n
UID:uid15@avantgardenhouston.com
SUMMARY:Happy Hour
DTSTART:20111102T230000Z
DTEND:20111103T010000Z
CLASS:PUBLIC
PRIORITY:5
DTSTAMP:20260419T145920Z
TRANSP:OPAQUE
SEQUENCE:0
X-ALT-DESC;FMTTYPE=text/html:<div>--- This iCal file does *NOT* confirm re
 gistration.Event details subject to change. ---</div><h1>Event Title: Happ
 y Hour</h1><div>https://www.avantgardenhouston.com/events/15/</div><br /><
 div>When: Nov 02, 2011 18:00 PM US/Central</div><br /><div><p>Weekdays fro
 m 5PM till 8PM<br />&nbsp\;<br />$3 Mixed drinks</p> <p>&nbsp\;</p> <p>$2 
 Domestic Drafts</p> <p>$4 Homemade Sangria</p> <p>$15 Bottle of selected w
 ines.</p> <p>Live Piano<br />Excellent Tacos served by El Palomo taqueria!
 </p></div><div>--- This iCal file does *NOT* confirm registration.Event de
 tails subject to change. ---</div><div>--- Tendenci&reg\; Software by <a h
 ref="https://www.tendenci.com">tendenci.com</a> - The Open Source AMS for 
 Associations ---</div>
BEGIN:VALARM
TRIGGER:-PT30M
ACTION:DISPLAY
DESCRIPTION:Reminder
END:VALARM
END:VEVENT
END:VCALENDAR
