BEGIN:VCALENDAR
VERSION:2.0
METHOD:PUBLISH
PRODID:-//Tendenci - The Open Source AMS for Associations//Tendenci Codeba
 se MIMEDIR//EN
BEGIN:VEVENT
DESCRIPTION:--- This iCal file does *NOT* confirm registration.\nEvent det
 ails subject to change. ---\nhttps://www.avantgardenhouston.com/events/154
 9/\n\nEvent Title: Wedding. Invites only\nStart Date / Time: Mar 06, 2016 
 10:00 AM US/Central\nLocation: \n\n\n--- This iCal file does *NOT* confirm
  registration.Event details subject to change. ---\n\n--- By Tendenci - Th
 e Open Source AMS for Associations ---\n
UID:uid1549@avantgardenhouston.com
SUMMARY:Wedding. Invites only
DTSTART:20160306T160000Z
DTEND:20160306T180000Z
CLASS:PUBLIC
PRIORITY:5
DTSTAMP:20260421T132330Z
TRANSP:OPAQUE
SEQUENCE:0
X-ALT-DESC;FMTTYPE=text/html:<div>--- This iCal file does *NOT* confirm re
 gistration.Event details subject to change. ---</div><h1>Event Title: Wedd
 ing. Invites only</h1><div>https://www.avantgardenhouston.com/events/1549/
 </div><br /><div>When: Mar 06, 2016 10:00 AM US/Central</div><br /><div></
 div><div>--- This iCal file does *NOT* confirm registration.Event details 
 subject to change. ---</div><div>--- Tendenci&reg\; Software by <a href="h
 ttps://www.tendenci.com">tendenci.com</a> - The Open Source AMS for Associ
 ations ---</div>
BEGIN:VALARM
TRIGGER:-PT30M
ACTION:DISPLAY
DESCRIPTION:Reminder
END:VALARM
END:VEVENT
END:VCALENDAR
