BEGIN:VCALENDAR
VERSION:2.0
METHOD:PUBLISH
PRODID:-//Tendenci - The Open Source AMS for Associations//Tendenci Codeba
 se MIMEDIR//EN
BEGIN:VEVENT
DESCRIPTION:--- This iCal file does *NOT* confirm registration.\nEvent det
 ails subject to change. ---\nhttps://www.avantgardenhouston.com/events/160
 7/\n\nEvent Title: wedding\nStart Date / Time: Apr 24, 2016 10:00 AM US/Ce
 ntral\nLocation: \n\n\n--- This iCal file does *NOT* confirm registration.
 Event details subject to change. ---\n\n--- By Tendenci - The Open Source 
 AMS for Associations ---\n
UID:uid1607@avantgardenhouston.com
SUMMARY:wedding
DTSTART:20160424T150000Z
DTEND:20160425T044500Z
CLASS:PUBLIC
PRIORITY:5
DTSTAMP:20260421T124300Z
TRANSP:OPAQUE
SEQUENCE:0
X-ALT-DESC;FMTTYPE=text/html:<div>--- This iCal file does *NOT* confirm re
 gistration.Event details subject to change. ---</div><h1>Event Title: wedd
 ing</h1><div>https://www.avantgardenhouston.com/events/1607/</div><br /><d
 iv>When: Apr 24, 2016 10:00 AM US/Central</div><br /><div></div><div>--- T
 his iCal file does *NOT* confirm registration.Event details subject to cha
 nge. ---</div><div>--- Tendenci&reg\; Software by <a href="https://www.ten
 denci.com">tendenci.com</a> - The Open Source AMS for Associations ---</di
 v>
BEGIN:VALARM
TRIGGER:-PT30M
ACTION:DISPLAY
DESCRIPTION:Reminder
END:VALARM
END:VEVENT
END:VCALENDAR
