BEGIN:VCALENDAR
VERSION:2.0
METHOD:PUBLISH
PRODID:-//Tendenci - The Open Source AMS for Associations//Tendenci Codeba
 se MIMEDIR//EN
BEGIN:VEVENT
DESCRIPTION:--- This iCal file does *NOT* confirm registration.\nEvent det
 ails subject to change. ---\nhttps://www.avantgardenhouston.com/events/164
 /\n\nEvent Title:  Disfrutalo, Footpie and Cassette Tape\nStart Date / Tim
 e: Feb 18, 2012 21:00 PM US/Central\nLocation: AvantGarden 9pm till 2am do
 wnstairs\n\n\n--- This iCal file does *NOT* confirm registration.Event det
 ails subject to change. ---\n\n--- By Tendenci - The Open Source AMS for A
 ssociations ---\n
UID:uid164@avantgardenhouston.com
SUMMARY: Disfrutalo, Footpie and Cassette Tape
DTSTART:20120219T030000Z
DTEND:20120219T053000Z
CLASS:PUBLIC
PRIORITY:5
DTSTAMP:20260419T182045Z
TRANSP:OPAQUE
SEQUENCE:0
LOCATION:AvantGarden 9pm till 2am downstairs
X-ALT-DESC;FMTTYPE=text/html:<div>--- This iCal file does *NOT* confirm re
 gistration.Event details subject to change. ---</div><h1>Event Title:  Dis
 frutalo, Footpie and Cassette Tape</h1><div>https://www.avantgardenhouston
 .com/events/164/</div><br /><div>When: Feb 18, 2012 21:00 PM US/Central</d
 iv><br /><div></div><div>--- This iCal file does *NOT* confirm registratio
 n.Event details subject to change. ---</div><div>--- Tendenci&reg\; Softwa
 re by <a href="https://www.tendenci.com">tendenci.com</a> - The Open Sourc
 e AMS for Associations ---</div>
BEGIN:VALARM
TRIGGER:-PT30M
ACTION:DISPLAY
DESCRIPTION:Reminder
END:VALARM
END:VEVENT
END:VCALENDAR
