BEGIN:VCALENDAR
VERSION:2.0
METHOD:PUBLISH
PRODID:-//Tendenci - The Open Source AMS for Associations//Tendenci Codeba
 se MIMEDIR//EN
BEGIN:VEVENT
DESCRIPTION:--- This iCal file does *NOT* confirm registration.\nEvent det
 ails subject to change. ---\nhttps://www.avantgardenhouston.com/events/171
 4/\n\nEvent Title: Private party till 11pm\nStart Date / Time: Jul 30, 201
 6 19:30 PM US/Central\nLocation: \nThe doors will open to the public at 11
 PM\n\n--- This iCal file does *NOT* confirm registration.Event details sub
 ject to change. ---\n\n--- By Tendenci - The Open Source AMS for Associati
 ons ---\n
UID:uid1714@avantgardenhouston.com
SUMMARY:Private party till 11pm
DTSTART:20160731T003000Z
DTEND:20160731T040000Z
CLASS:PUBLIC
PRIORITY:5
DTSTAMP:20260421T085255Z
TRANSP:OPAQUE
SEQUENCE:0
X-ALT-DESC;FMTTYPE=text/html:<div>--- This iCal file does *NOT* confirm re
 gistration.Event details subject to change. ---</div><h1>Event Title: Priv
 ate party till 11pm</h1><div>https://www.avantgardenhouston.com/events/171
 4/</div><br /><div>When: Jul 30, 2016 19:30 PM US/Central</div><br /><div>
 <p>The doors will open to the public at 11PM</p></div><div>--- This iCal f
 ile does *NOT* confirm registration.Event details subject to change. ---</
 div><div>--- Tendenci&reg\; Software by <a href="https://www.tendenci.com"
 >tendenci.com</a> - The Open Source AMS for Associations ---</div>
BEGIN:VALARM
TRIGGER:-PT30M
ACTION:DISPLAY
DESCRIPTION:Reminder
END:VALARM
END:VEVENT
END:VCALENDAR
