BEGIN:VCALENDAR
VERSION:2.0
METHOD:PUBLISH
PRODID:-//Tendenci - The Open Source AMS for Associations//Tendenci Codeba
 se MIMEDIR//EN
BEGIN:VEVENT
DESCRIPTION:--- This iCal file does *NOT* confirm registration.\nEvent det
 ails subject to change. ---\nhttps://www.avantgardenhouston.com/events/172
 /\n\nEvent Title: Category 9, Super Pancho Combo, Hye Ross and the Newsmak
 ers\nStart Date / Time: Feb 11, 2012 21:15 PM US/Central\nLocation: Upstai
 rs Listening room\nCategory 9, Super Pancho Combo, Hye Ross and the Newsma
 kers\n8pm till closing. \n\n--- This iCal file does *NOT* confirm registra
 tion.Event details subject to change. ---\n\n--- By Tendenci - The Open So
 urce AMS for Associations ---\n
UID:uid172@avantgardenhouston.com
SUMMARY:Category 9, Super Pancho Combo, Hye Ross and the Newsmakers
DTSTART:20120212T031500Z
DTEND:20120212T053000Z
CLASS:PUBLIC
PRIORITY:5
DTSTAMP:20260419T200155Z
TRANSP:OPAQUE
SEQUENCE:0
LOCATION:Upstairs Listening room
X-ALT-DESC;FMTTYPE=text/html:<div>--- This iCal file does *NOT* confirm re
 gistration.Event details subject to change. ---</div><h1>Event Title: Cate
 gory 9, Super Pancho Combo, Hye Ross and the Newsmakers</h1><div>https://w
 ww.avantgardenhouston.com/events/172/</div><br /><div>When: Feb 11, 2012 2
 1:15 PM US/Central</div><br /><div><p><span>Category 9, Super Pancho Combo
 , Hye Ross and the Newsmakers</span></p> <p><span>8pm till closing.&nbsp\;
 </span></p></div><div>--- This iCal file does *NOT* confirm registration.E
 vent details subject to change. ---</div><div>--- Tendenci&reg\; Software 
 by <a href="https://www.tendenci.com">tendenci.com</a> - The Open Source A
 MS for Associations ---</div>
BEGIN:VALARM
TRIGGER:-PT30M
ACTION:DISPLAY
DESCRIPTION:Reminder
END:VALARM
END:VEVENT
END:VCALENDAR
