BEGIN:VCALENDAR
VERSION:2.0
METHOD:PUBLISH
PRODID:-//Tendenci - The Open Source AMS for Associations//Tendenci Codeba
 se MIMEDIR//EN
BEGIN:VEVENT
DESCRIPTION:--- This iCal file does *NOT* confirm registration.\nEvent det
 ails subject to change. ---\nhttps://www.avantgardenhouston.com/events/192
 4/\n\nEvent Title: Hurricane Harvest relief fundraiser and poetry reading 
 \nStart Date / Time: Aug 30, 2017 19:30 PM US/Central\nLocation: \nhttps:/
 /m.facebook.com/HoustonAvantGarden\n\n--- This iCal file does *NOT* confir
 m registration.Event details subject to change. ---\n\n--- By Tendenci - T
 he Open Source AMS for Associations ---\n
UID:uid1924@avantgardenhouston.com
SUMMARY:Hurricane Harvest relief fundraiser and poetry reading 
DTSTART:20170831T003000Z
DTEND:20170831T040000Z
CLASS:PUBLIC
PRIORITY:5
DTSTAMP:20260421T001006Z
TRANSP:OPAQUE
SEQUENCE:0
X-ALT-DESC;FMTTYPE=text/html:<div>--- This iCal file does *NOT* confirm re
 gistration.Event details subject to change. ---</div><h1>Event Title: Hurr
 icane Harvest relief fundraiser and poetry reading </h1><div>https://www.a
 vantgardenhouston.com/events/1924/</div><br /><div>When: Aug 30, 2017 19:3
 0 PM US/Central</div><br /><div><p>https://m.facebook.com/HoustonAvantGard
 en</p></div><div>--- This iCal file does *NOT* confirm registration.Event 
 details subject to change. ---</div><div>--- Tendenci&reg\; Software by <a
  href="https://www.tendenci.com">tendenci.com</a> - The Open Source AMS fo
 r Associations ---</div>
BEGIN:VALARM
TRIGGER:-PT30M
ACTION:DISPLAY
DESCRIPTION:Reminder
END:VALARM
END:VEVENT
END:VCALENDAR
