BEGIN:VCALENDAR
VERSION:2.0
METHOD:PUBLISH
PRODID:-//Tendenci - The Open Source AMS for Associations//Tendenci Codeba
 se MIMEDIR//EN
BEGIN:VEVENT
DESCRIPTION:--- This iCal file does *NOT* confirm registration.\nEvent det
 ails subject to change. ---\nhttps://www.avantgardenhouston.com/events/193
 7/\n\nEvent Title: Harvey relief show with Heck Nugget - The Blinks - Paja
 ma Party - a stand up by Gabe Bravo\nStart Date / Time: Sep 15, 2017 21:00
  PM US/Central\nLocation: AvantGarden  \nNo door fee, all donations will g
 o to Houston Food Bank. Come hang out for a night of music, art, comedy, a
 nd drinks for a cause that resonates with all of us.The current lineup (ti
 mes TBA):Pajama Party+ somewhat fast punk music, here to have funJust Hang
 in' Out+heartfelt omnispective folk rockThe Blinks - A Blink 182 Tribute+ 
 Blink 182 tribute band for all the best sing alongsGabe Bravo+ fav local H
 ouston stand up heroHeck Nugget+ somewhat fast pop punk dudes, also here t
 o have funArtwork by Jake Pryor with CrypticWorks!More TBA!!\n\n--- This i
 Cal file does *NOT* confirm registration.Event details subject to change. 
 ---\n\n--- By Tendenci - The Open Source AMS for Associations ---\n
UID:uid1937@avantgardenhouston.com
SUMMARY:Harvey relief show with Heck Nugget - The Blinks - Pajama Party - a stand up by Gabe Bravo
DTSTART:20170916T020000Z
DTEND:20170916T045900Z
CLASS:PUBLIC
PRIORITY:5
DTSTAMP:20260420T232822Z
TRANSP:OPAQUE
SEQUENCE:0
LOCATION:AvantGarden  
X-ALT-DESC;FMTTYPE=text/html:<div>--- This iCal file does *NOT* confirm re
 gistration.Event details subject to change. ---</div><h1>Event Title: Harv
 ey relief show with Heck Nugget - The Blinks - Pajama Party - a stand up b
 y Gabe Bravo</h1><div>https://www.avantgardenhouston.com/events/1937/</div
 ><br /><div>When: Sep 15, 2017 21:00 PM US/Central</div><br /><div><p><spa
 n><span>No door fee, all donations will go to Houston Food Bank. Come hang
  out for a night of music, art, comedy, and drinks for a cause that resona
 tes with all of us.</span><br /><br /><span>The current lineup (times TBA)
 :</span><br /><br /><span>Pajama Party</span><br /><span>+ somewhat fast p
 unk music, here to have fun</span><br /><span>Just Hangin' Out</span><br /
 ><span>+heartfelt omnispective folk rock</span><br /><span>The Blinks - A 
 Blink 182 Tribute</span><br /><span>+ Blink 182 tribute band for all the b
 est sing alongs</span><br /><span>Gabe Bravo</span><br /><span>+ fav local
  Houston stand up hero</span><span class="text_exposed_show"><br />Heck Nu
 gget<br />+ somewhat fast pop punk dudes, also here to have fun<br /><br /
 >Artwork by Jake Pryor with CrypticWorks!<br /><br />More TBA!!</span><br 
 /></span></p></div><div>--- This iCal file does *NOT* confirm registration
 .Event details subject to change. ---</div><div>--- Tendenci&reg\; Softwar
 e by <a href="https://www.tendenci.com">tendenci.com</a> - The Open Source
  AMS for Associations ---</div>
BEGIN:VALARM
TRIGGER:-PT30M
ACTION:DISPLAY
DESCRIPTION:Reminder
END:VALARM
END:VEVENT
END:VCALENDAR
