BEGIN:VCALENDAR
VERSION:2.0
METHOD:PUBLISH
PRODID:-//Tendenci - The Open Source AMS for Associations//Tendenci Codeba
 se MIMEDIR//EN
BEGIN:VEVENT
DESCRIPTION:--- This iCal file does *NOT* confirm registration.\nEvent det
 ails subject to change. ---\nhttps://www.avantgardenhouston.com/events/193
 8/\n\nEvent Title: The exposure experiment\nStart Date / Time: Sep 10, 201
 7 14:30 PM US/Central\nLocation: \nWe will be hosting an event to raise do
 nations and funds that will go directly towards Houston's local and decent
 ralized team Food Not Bombs - Houston.What we need:-vegetarian food option
 s (specifically dried beans, lentils, peas)-blankets-towels-toiletries (sh
 ampoo, soap, toothepaste, femine items, etc)We will also be accepting cash
  donations. Bring something and get into the event free of charge. If you 
 only have cash a donation of $5 or more would be greatly appreciated.There
  will be various food vendors (if you are one and would like to join force
 s please message me Cristina Urquieta). Food vendors include:Love WatersKi
 ck Ass Pizzamore TBAWe will be holding a a raffle as well ($1 per ticket).
  If you have anything you would like to donate please let me know. So far 
 the raffle prizes include:A bottle of whiskyMetanoia TShirtoriginal artwor
 k from Chelsea Bolden (AKA Hellsea Bolden)handmade soapsWe have an awesome
  list of wonderfully talented musicans who will also be performing which i
 nclude:Brian RinconSo BelowChris Valdes72NamesEl JumbotronThe Exposure Exp
 erimentThe C.I.T.Y.The Real McCoysFree RadicalsMetanoiaThank you all so mu
 ch for everything you have done. If you have been affected by Harvey pleas
 e reach out. The community is here to help. Also, if you are a visual arti
 st and would like to be a part of the event please message me. Thank you a
 ll so much for your time, talents, love, understanding, efforts, power, an
 d courage. You inspire me to be more every day. Thank you and see you soon
 .\n\n--- This iCal file does *NOT* confirm registration.Event details subj
 ect to change. ---\n\n--- By Tendenci - The Open Source AMS for Associatio
 ns ---\n
UID:uid1938@avantgardenhouston.com
SUMMARY:The exposure experiment
DTSTART:20170910T193000Z
DTEND:20170911T044500Z
CLASS:PUBLIC
PRIORITY:5
DTSTAMP:20260421T001008Z
TRANSP:OPAQUE
SEQUENCE:0
X-ALT-DESC;FMTTYPE=text/html:<div>--- This iCal file does *NOT* confirm re
 gistration.Event details subject to change. ---</div><h1>Event Title: The 
 exposure experiment</h1><div>https://www.avantgardenhouston.com/events/193
 8/</div><br /><div>When: Sep 10, 2017 14:30 PM US/Central</div><br /><div>
 <p><span>We will be hosting an event to raise donations and funds that wil
 l go directly towards Houston's local and decentralized team&nbsp\;</span>
 <a href="https://www.facebook.com/houstonfoodnotbombs/" data-hovercard="/a
 jax/hovercard/page.php?id=40442070816&amp\;extragetparams=%7B%22directed_t
 arget_id%22%3A1554587137931618%7D" data-hovercard-prefer-more-content-show
 ="1">Food Not Bombs - Houston</a><span>.</span><br /><br /><span>What we n
 eed:</span><br /><span>-vegetarian food options (specifically dried beans,
  lentils, peas)</span><br /><span>-blankets</span><br /><span>-towels</spa
 n><br /><span>-toiletries (shampoo, soap, toothepaste, femine items, etc)<
 /span><br /><br /><span>We will also be accepting cash donations. Bring so
 mething and get into the event free of charge. If you only have cash a don
 ation of $5 or more would be greatly appreciated.</span><br /><br /><span>
 There will be various food vendors (if you are one and would like to join 
 forces please message me&nbsp\;</span><a href="https://www.facebook.com/he
 ycristinaaa" data-hovercard="/ajax/hovercard/user.php?id=1183358772&amp\;e
 xtragetparams=%7B%22directed_target_id%22%3A1554587137931618%7D" data-hove
 rcard-prefer-more-content-show="1">Cristina Urquieta</a><span>). Food vend
 ors include:</span><br /><span class="text_exposed_show"><br /><a href="ht
 tps://www.facebook.com/Love-Waters-543654052392924/" data-hovercard="/ajax
 /hovercard/page.php?id=543654052392924&amp\;extragetparams=%7B%22directed_
 target_id%22%3A1554587137931618%7D" data-hovercard-prefer-more-content-sho
 w="1">Love Waters</a><br />Kick Ass Pizza<br />more TBA<br /><br />We will
  be holding a a raffle as well ($1 per ticket). If you have anything you w
 ould like to donate please let me know. So far the raffle prizes include:<
 br /><br />A bottle of whisky<br />Metanoia TShirt<br />original artwork f
 rom Chelsea Bolden (AKA&nbsp\;<a href="https://www.facebook.com/profile.ph
 p?id=100009523343941" data-hovercard="/ajax/hovercard/user.php?id=10000952
 3343941&amp\;extragetparams=%7B%22directed_target_id%22%3A1554587137931618
 %7D" data-hovercard-prefer-more-content-show="1">Hellsea Bolden</a>)<br />
 handmade soaps<br /><br />We have an awesome list of wonderfully talented 
 musicans who will also be performing which include:<br /><br />Brian Rinco
 n<br />So Below<br />Chris Valdes<br /><a href="https://www.facebook.com/7
 2Names-111721298893191/" data-hovercard="/ajax/hovercard/page.php?id=11172
 1298893191&amp\;extragetparams=%7B%22directed_target_id%22%3A1554587137931
 618%7D" data-hovercard-prefer-more-content-show="1">72Names</a><br /><a hr
 ef="https://www.facebook.com/Eljumbotron/" data-hovercard="/ajax/hovercard
 /page.php?id=653504278179988&amp\;extragetparams=%7B%22directed_target_id%
 22%3A1554587137931618%7D" data-hovercard-prefer-more-content-show="1">El J
 umbotron</a><br /><a href="https://www.facebook.com/TheExposureExperiment7
 13/" data-hovercard="/ajax/hovercard/page.php?id=683117448485069&amp\;extr
 agetparams=%7B%22directed_target_id%22%3A1554587137931618%7D" data-hoverca
 rd-prefer-more-content-show="1">The Exposure Experiment</a><br /><a href="
 https://www.facebook.com/GetNTune/" data-hovercard="/ajax/hovercard/page.p
 hp?id=143612032347358&amp\;extragetparams=%7B%22directed_target_id%22%3A15
 54587137931618%7D" data-hovercard-prefer-more-content-show="1">The C.I.T.Y
 .</a><br /><a href="https://www.facebook.com/therealestmccoys/" data-hover
 card="/ajax/hovercard/page.php?id=768177283286333&amp\;extragetparams=%7B%
 22directed_target_id%22%3A1554587137931618%7D" data-hovercard-prefer-more-
 content-show="1">The Real McCoys</a><br /><a href="https://www.facebook.co
 m/freerads/" data-hovercard="/ajax/hovercard/page.php?id=17182725341&amp\;
 extragetparams=%7B%22directed_target_id%22%3A1554587137931618%7D" data-hov
 ercard-prefer-more-content-show="1">Free Radicals</a><br /><a href="https:
 //www.facebook.com/SoundsLikeMetanoia/" data-hovercard="/ajax/hovercard/pa
 ge.php?id=704809779597893&amp\;extragetparams=%7B%22directed_target_id%22%
 3A1554587137931618%7D" data-hovercard-prefer-more-content-show="1">Metanoi
 a</a><br /><br /><br /><br />Thank you all so much for everything you have
  done. If you have been affected by Harvey please reach out. The community
  is here to help.&nbsp\;<br /><br />Also, if you are a visual artist and w
 ould like to be a part of the event please message me.&nbsp\;<br /><br />T
 hank you all so much for your time, talents, love, understanding, efforts,
  power, and courage. You inspire me to be more every day. Thank you and se
 e you soon.</span></p></div><div>--- This iCal file does *NOT* confirm reg
 istration.Event details subject to change. ---</div><div>--- Tendenci&reg\
 ; Software by <a href="https://www.tendenci.com">tendenci.com</a> - The Op
 en Source AMS for Associations ---</div>
BEGIN:VALARM
TRIGGER:-PT30M
ACTION:DISPLAY
DESCRIPTION:Reminder
END:VALARM
END:VEVENT
END:VCALENDAR
