BEGIN:VCALENDAR
VERSION:2.0
METHOD:PUBLISH
PRODID:-//Tendenci - The Open Source AMS for Associations//Tendenci Codeba
 se MIMEDIR//EN
BEGIN:VEVENT
DESCRIPTION:--- This iCal file does *NOT* confirm registration.\nEvent det
 ails subject to change. ---\nhttps://www.avantgardenhouston.com/events/193
 9/\n\nEvent Title: hurricane relief with Gio Bamba\nStart Date / Time: Sep
  09, 2017 10:00 AM US/Central\nLocation: \n\n\n--- This iCal file does *NO
 T* confirm registration.Event details subject to change. ---\n\n--- By Ten
 denci - The Open Source AMS for Associations ---\n
UID:uid1939@avantgardenhouston.com
SUMMARY:hurricane relief with Gio Bamba
DTSTART:20170909T150000Z
DTEND:20170909T170000Z
CLASS:PUBLIC
PRIORITY:5
DTSTAMP:20260421T001045Z
TRANSP:OPAQUE
SEQUENCE:0
X-ALT-DESC;FMTTYPE=text/html:<div>--- This iCal file does *NOT* confirm re
 gistration.Event details subject to change. ---</div><h1>Event Title: hurr
 icane relief with Gio Bamba</h1><div>https://www.avantgardenhouston.com/ev
 ents/1939/</div><br /><div>When: Sep 09, 2017 10:00 AM US/Central</div><br
  /><div></div><div>--- This iCal file does *NOT* confirm registration.Even
 t details subject to change. ---</div><div>--- Tendenci&reg\; Software by 
 <a href="https://www.tendenci.com">tendenci.com</a> - The Open Source AMS 
 for Associations ---</div>
BEGIN:VALARM
TRIGGER:-PT30M
ACTION:DISPLAY
DESCRIPTION:Reminder
END:VALARM
END:VEVENT
END:VCALENDAR
