BEGIN:VCALENDAR
VERSION:2.0
METHOD:PUBLISH
PRODID:-//Tendenci - The Open Source AMS for Associations//Tendenci Codeba
 se MIMEDIR//EN
BEGIN:VEVENT
DESCRIPTION:--- This iCal file does *NOT* confirm registration.\nEvent det
 ails subject to change. ---\nhttps://www.avantgardenhouston.com/events/194
 /\n\nEvent Title: Ceeplus tba\nStart Date / Time: Feb 25, 2012 09:30 AM US
 /Central\nLocation: \n\n\n--- This iCal file does *NOT* confirm registrati
 on.Event details subject to change. ---\n\n--- By Tendenci - The Open Sour
 ce AMS for Associations ---\n
UID:uid194@avantgardenhouston.com
SUMMARY:Ceeplus tba
DTSTART:20120225T153000Z
DTEND:20120226T033000Z
CLASS:PUBLIC
PRIORITY:5
DTSTAMP:20260419T182043Z
TRANSP:OPAQUE
SEQUENCE:0
X-ALT-DESC;FMTTYPE=text/html:<div>--- This iCal file does *NOT* confirm re
 gistration.Event details subject to change. ---</div><h1>Event Title: Ceep
 lus tba</h1><div>https://www.avantgardenhouston.com/events/194/</div><br /
 ><div>When: Feb 25, 2012 09:30 AM US/Central</div><br /><div></div><div>--
 - This iCal file does *NOT* confirm registration.Event details subject to 
 change. ---</div><div>--- Tendenci&reg\; Software by <a href="https://www.
 tendenci.com">tendenci.com</a> - The Open Source AMS for Associations ---<
 /div>
BEGIN:VALARM
TRIGGER:-PT30M
ACTION:DISPLAY
DESCRIPTION:Reminder
END:VALARM
END:VEVENT
END:VCALENDAR
