BEGIN:VCALENDAR
VERSION:2.0
METHOD:PUBLISH
PRODID:-//Tendenci - The Open Source AMS for Associations//Tendenci Codeba
 se MIMEDIR//EN
BEGIN:VEVENT
DESCRIPTION:--- This iCal file does *NOT* confirm registration.\nEvent det
 ails subject to change. ---\nhttps://www.avantgardenhouston.com/events/206
 /\n\nEvent Title: March HARE\nStart Date / Time: Mar 16, 2012 20:30 PM US/
 Central\nLocation: March hare\n\nBANDS\nOLD OLD JESUS\nLOCH NESS RADIO\nLU
 KE LUKAS\n\nPOETS\nMeryl Bazaman\nWinston Derden\nKen Jones\nStephen Gros\
 nBrought to you by HARBINGER ASYLUM\n\n--- This iCal file does *NOT* confi
 rm registration.Event details subject to change. ---\n\n--- By Tendenci - 
 The Open Source AMS for Associations ---\n
UID:uid206@avantgardenhouston.com
SUMMARY:March HARE
DTSTART:20120317T013000Z
DTEND:20120317T043000Z
CLASS:PUBLIC
PRIORITY:5
DTSTAMP:20260419T200116Z
TRANSP:OPAQUE
SEQUENCE:0
LOCATION:March hare
X-ALT-DESC;FMTTYPE=text/html:<div>--- This iCal file does *NOT* confirm re
 gistration.Event details subject to change. ---</div><h1>Event Title: Marc
 h HARE</h1><div>https://www.avantgardenhouston.com/events/206/</div><br />
 <div>When: Mar 16, 2012 20:30 PM US/Central</div><br /><div><p> <div class
 ="t5_file" style="text-align: center\;">BANDS</div> <div class="t5_file" s
 tyle="text-align: center\;">OLD OLD JESUS</div> <div class="t5_file" style
 ="text-align: center\;">LOCH NESS RADIO</div> <div class="t5_file" style="
 text-align: center\;">LUKE LUKAS</div> </p> <p>POETS</p> <p>Meryl Bazaman<
 /p> <p>Winston Derden</p> <p>Ken Jones</p> <p>Stephen Gros</p> <p style="t
 ext-align: center\;">Brought to you by HARBINGER ASYLUM</p></div><div>--- 
 This iCal file does *NOT* confirm registration.Event details subject to ch
 ange. ---</div><div>--- Tendenci&reg\; Software by <a href="https://www.te
 ndenci.com">tendenci.com</a> - The Open Source AMS for Associations ---</d
 iv>
BEGIN:VALARM
TRIGGER:-PT30M
ACTION:DISPLAY
DESCRIPTION:Reminder
END:VALARM
END:VEVENT
END:VCALENDAR
