BEGIN:VCALENDAR
VERSION:2.0
METHOD:PUBLISH
PRODID:-//Tendenci - The Open Source AMS for Associations//Tendenci Codeba
 se MIMEDIR//EN
BEGIN:VEVENT
DESCRIPTION:--- This iCal file does *NOT* confirm registration.\nEvent det
 ails subject to change. ---\nhttps://www.avantgardenhouston.com/events/214
 0/\n\nEvent Title: Private party. closed to the public\nStart Date / Time:
  Dec 17, 2017 00:00 AM US/Central\nLocation: \n\n\n--- This iCal file does
  *NOT* confirm registration.Event details subject to change. ---\n\n--- By
  Tendenci - The Open Source AMS for Associations ---\n
UID:uid2140@avantgardenhouston.com
SUMMARY:Private party. closed to the public
DTSTART:20171217T060000Z
DTEND:20171218T055959Z
CLASS:PUBLIC
PRIORITY:5
DTSTAMP:20260420T202518Z
TRANSP:OPAQUE
SEQUENCE:0
X-ALT-DESC;FMTTYPE=text/html:<div>--- This iCal file does *NOT* confirm re
 gistration.Event details subject to change. ---</div><h1>Event Title: Priv
 ate party. closed to the public</h1><div>https://www.avantgardenhouston.co
 m/events/2140/</div><br /><div>When: Dec 17, 2017 00:00 AM US/Central</div
 ><br /><div></div><div>--- This iCal file does *NOT* confirm registration.
 Event details subject to change. ---</div><div>--- Tendenci&reg\; Software
  by <a href="https://www.tendenci.com">tendenci.com</a> - The Open Source 
 AMS for Associations ---</div>
BEGIN:VALARM
TRIGGER:-PT30M
ACTION:DISPLAY
DESCRIPTION:Reminder
END:VALARM
END:VEVENT
END:VCALENDAR
