BEGIN:VCALENDAR
VERSION:2.0
METHOD:PUBLISH
PRODID:-//Tendenci - The Open Source AMS for Associations//Tendenci Codeba
 se MIMEDIR//EN
BEGIN:VEVENT
DESCRIPTION:--- This iCal file does *NOT* confirm registration.\nEvent det
 ails subject to change. ---\nhttps://www.avantgardenhouston.com/events/221
 /\n\nEvent Title: Wedding. Private event.\nStart Date / Time: Apr 14, 2012
  16:00 PM US/Central\nLocation: \n\n\n--- This iCal file does *NOT* confir
 m registration.Event details subject to change. ---\n\n--- By Tendenci - T
 he Open Source AMS for Associations ---\n
UID:uid221@avantgardenhouston.com
SUMMARY:Wedding. Private event.
DTSTART:20120414T210000Z
DTEND:20120415T045900Z
CLASS:PUBLIC
PRIORITY:5
DTSTAMP:20260419T214539Z
TRANSP:OPAQUE
SEQUENCE:0
X-ALT-DESC;FMTTYPE=text/html:<div>--- This iCal file does *NOT* confirm re
 gistration.Event details subject to change. ---</div><h1>Event Title: Wedd
 ing. Private event.</h1><div>https://www.avantgardenhouston.com/events/221
 /</div><br /><div>When: Apr 14, 2012 16:00 PM US/Central</div><br /><div><
 /div><div>--- This iCal file does *NOT* confirm registration.Event details
  subject to change. ---</div><div>--- Tendenci&reg\; Software by <a href="
 https://www.tendenci.com">tendenci.com</a> - The Open Source AMS for Assoc
 iations ---</div>
BEGIN:VALARM
TRIGGER:-PT30M
ACTION:DISPLAY
DESCRIPTION:Reminder
END:VALARM
END:VEVENT
END:VCALENDAR
