BEGIN:VCALENDAR
VERSION:2.0
METHOD:PUBLISH
PRODID:-//Tendenci - The Open Source AMS for Associations//Tendenci Codeba
 se MIMEDIR//EN
BEGIN:VEVENT
DESCRIPTION:--- This iCal file does *NOT* confirm registration.\nEvent det
 ails subject to change. ---\nhttps://www.avantgardenhouston.com/events/222
 /\n\nEvent Title: Upstairs: The Bright Lights Tonight\nStart Date / Time: 
 Apr 28, 2012 21:00 PM US/Central\nLocation: AvantGarden 9pm till 2am\n\n\n
 \n\nIt's back - the dance you want to dance!\nDancing! Excitement! Music! 
 Dancing! Art! Romance! Fun! Magic! More dancing!You like to dance, and you
  like dancing to interesting songs. You&rsquo\;ve had enough of the club n
 ights that bowl you over with bass and beats that don&rsquo\;t go anywhere
 . Try the dance night where you&rsquo\;re guaranteed to get to dance to th
 e Team Banzai March.From Air to Marvin Gaye to Z-Rocks and all points in-b
 etween, we'll have the music that you want to dance to - even if you didn'
 t know you wanted it beforehand.It&rsquo\;s not dredging up nostalgia - it
 &rsquo\;s resynthesis.\n\n\n\n\n\n\n--- This iCal file does *NOT* confirm 
 registration.Event details subject to change. ---\n\n--- By Tendenci - The
  Open Source AMS for Associations ---\n
UID:uid222@avantgardenhouston.com
SUMMARY:Upstairs: The Bright Lights Tonight
DTSTART:20120429T020000Z
DTEND:20120429T045900Z
CLASS:PUBLIC
PRIORITY:5
DTSTAMP:20260419T214450Z
TRANSP:OPAQUE
SEQUENCE:0
LOCATION:AvantGarden 9pm till 2am
X-ALT-DESC;FMTTYPE=text/html:<div>--- This iCal file does *NOT* confirm re
 gistration.Event details subject to change. ---</div><h1>Event Title: Upst
 airs: The Bright Lights Tonight</h1><div>https://www.avantgardenhouston.co
 m/events/222/</div><br /><div>When: Apr 28, 2012 21:00 PM US/Central</div>
 <br /><div><table class="uiGrid mvm" cellspacing="0" cellpadding="0"> <tbo
 dy> <tr> <td class="vTop"> <div id="id_4f7b28770371f8459977020" class="tex
 t_exposed_root text_exposed"><br />It's back - the dance you want to dance
 !</div> <div class="text_exposed_root text_exposed"><br /><br />Dancing! E
 xcitement! Music! Dancing! Art! Romance! Fun! Magic! More dancing!<br /><b
 r />You like to dance, and you like dancing to interesting songs. You&rsqu
 o\;ve had enough of the club nights that bowl you over with bass and beats
  that&nbsp\;<span class="text_exposed_show">don&rsquo\;t go anywhere. Try 
 the dance night where you&rsquo\;re guaranteed to get to dance to the Team
  Banzai March.<br /><br />From Air to Marvin Gaye to Z-Rocks and all point
 s in-between, we'll have the music that you want to dance to - even if you
  didn't know you wanted it beforehand.<br /><br /><br />It&rsquo\;s not dr
 edging up nostalgia - it&rsquo\;s resynthesis.<br /></span></div> <div cla
 ss="text_exposed_root text_exposed"><span class="text_exposed_show"><br />
 </span></div> </td> </tr> </tbody> </table></div><div>--- This iCal file d
 oes *NOT* confirm registration.Event details subject to change. ---</div><
 div>--- Tendenci&reg\; Software by <a href="https://www.tendenci.com">tend
 enci.com</a> - The Open Source AMS for Associations ---</div>
BEGIN:VALARM
TRIGGER:-PT30M
ACTION:DISPLAY
DESCRIPTION:Reminder
END:VALARM
END:VEVENT
END:VCALENDAR
