BEGIN:VCALENDAR
VERSION:2.0
METHOD:PUBLISH
PRODID:-//Tendenci - The Open Source AMS for Associations//Tendenci Codeba
 se MIMEDIR//EN
BEGIN:VEVENT
DESCRIPTION:--- This iCal file does *NOT* confirm registration.\nEvent det
 ails subject to change. ---\nhttps://www.avantgardenhouston.com/events/225
 /\n\nEvent Title: Groove Thing form Austin, upstairs\nStart Date / Time: A
 pr 03, 2012 22:15 PM US/Central\nLocation: \nhttp://www.groovethink.com/mu
 sic.html\n\n--- This iCal file does *NOT* confirm registration.Event detai
 ls subject to change. ---\n\n--- By Tendenci - The Open Source AMS for Ass
 ociations ---\n
UID:uid225@avantgardenhouston.com
SUMMARY:Groove Thing form Austin, upstairs
DTSTART:20120404T031500Z
DTEND:20120404T045900Z
CLASS:PUBLIC
PRIORITY:5
DTSTAMP:20260419T200253Z
TRANSP:OPAQUE
SEQUENCE:0
X-ALT-DESC;FMTTYPE=text/html:<div>--- This iCal file does *NOT* confirm re
 gistration.Event details subject to change. ---</div><h1>Event Title: Groo
 ve Thing form Austin, upstairs</h1><div>https://www.avantgardenhouston.com
 /events/225/</div><br /><div>When: Apr 03, 2012 22:15 PM US/Central</div><
 br /><div><p><a href="http://www.groovethink.com/music.html">http://www.gr
 oovethink.com/music.html</a></p></div><div>--- This iCal file does *NOT* c
 onfirm registration.Event details subject to change. ---</div><div>--- Ten
 denci&reg\; Software by <a href="https://www.tendenci.com">tendenci.com</a
 > - The Open Source AMS for Associations ---</div>
BEGIN:VALARM
TRIGGER:-PT30M
ACTION:DISPLAY
DESCRIPTION:Reminder
END:VALARM
END:VEVENT
END:VCALENDAR
