BEGIN:VCALENDAR
VERSION:2.0
METHOD:PUBLISH
PRODID:-//Tendenci - The Open Source AMS for Associations//Tendenci Codeba
 se MIMEDIR//EN
BEGIN:VEVENT
DESCRIPTION:--- This iCal file does *NOT* confirm registration.\nEvent det
 ails subject to change. ---\nhttps://www.avantgardenhouston.com/events/257
 /\n\nEvent Title: Da Camera of Houston Young Chamber Music\nStart Date / T
 ime: Apr 27, 2012 19:00 PM US/Central\nLocation: AvantGarden, free event.\
 nA treat for anyone who likes classical music.\nPresented by Da Camera of 
 Houston. \n\n--- This iCal file does *NOT* confirm registration.Event deta
 ils subject to change. ---\n\n--- By Tendenci - The Open Source AMS for As
 sociations ---\n
UID:uid257@avantgardenhouston.com
SUMMARY:Da Camera of Houston Young Chamber Music
DTSTART:20120428T000000Z
DTEND:20120428T020000Z
CLASS:PUBLIC
PRIORITY:5
DTSTAMP:20260419T214357Z
TRANSP:OPAQUE
SEQUENCE:0
LOCATION:AvantGarden, free event.
X-ALT-DESC;FMTTYPE=text/html:<div>--- This iCal file does *NOT* confirm re
 gistration.Event details subject to change. ---</div><h1>Event Title: Da C
 amera of Houston Young Chamber Music</h1><div>https://www.avantgardenhoust
 on.com/events/257/</div><br /><div>When: Apr 27, 2012 19:00 PM US/Central<
 /div><br /><div><p>A treat for anyone who likes classical music.</p> <p>Pr
 esented by Da Camera of Houston.&nbsp\;</p></div><div>--- This iCal file d
 oes *NOT* confirm registration.Event details subject to change. ---</div><
 div>--- Tendenci&reg\; Software by <a href="https://www.tendenci.com">tend
 enci.com</a> - The Open Source AMS for Associations ---</div>
BEGIN:VALARM
TRIGGER:-PT30M
ACTION:DISPLAY
DESCRIPTION:Reminder
END:VALARM
END:VEVENT
END:VCALENDAR
