BEGIN:VCALENDAR
VERSION:2.0
METHOD:PUBLISH
PRODID:-//Tendenci - The Open Source AMS for Associations//Tendenci Codeba
 se MIMEDIR//EN
BEGIN:VEVENT
DESCRIPTION:--- This iCal file does *NOT* confirm registration.\nEvent det
 ails subject to change. ---\nhttps://www.avantgardenhouston.com/events/259
 /\n\nEvent Title: CINCO DE MAYO\nStart Date / Time: May 05, 2012 15:00 PM 
 US/Central\nLocation: \nCome party with us from 3p, till?5 de Mayo,dance  
 music, special Michiladas, Mexican Bloody Marys,\nMargaritas, and the best
  tacos in Houston by Taqueria El Palomo!\nFREE PARTY.\n\n--- This iCal fil
 e does *NOT* confirm registration.Event details subject to change. ---\n\n
 --- By Tendenci - The Open Source AMS for Associations ---\n
UID:uid259@avantgardenhouston.com
SUMMARY:CINCO DE MAYO
DTSTART:20120505T200000Z
DTEND:20120506T043000Z
CLASS:PUBLIC
PRIORITY:5
DTSTAMP:20260419T214448Z
TRANSP:OPAQUE
SEQUENCE:0
X-ALT-DESC;FMTTYPE=text/html:<div>--- This iCal file does *NOT* confirm re
 gistration.Event details subject to change. ---</div><h1>Event Title: CINC
 O DE MAYO</h1><div>https://www.avantgardenhouston.com/events/259/</div><br
  /><div>When: May 05, 2012 15:00 PM US/Central</div><br /><div><p>Come par
 ty with us from 3p, till?5 de Mayo,dance &nbsp\;music, special Michiladas,
  Mexican Bloody Marys,</p> <p>Margaritas, and the best tacos in Houston by
  Taqueria El Palomo!</p> <p>FREE PARTY.</p></div><div>--- This iCal file d
 oes *NOT* confirm registration.Event details subject to change. ---</div><
 div>--- Tendenci&reg\; Software by <a href="https://www.tendenci.com">tend
 enci.com</a> - The Open Source AMS for Associations ---</div>
BEGIN:VALARM
TRIGGER:-PT30M
ACTION:DISPLAY
DESCRIPTION:Reminder
END:VALARM
END:VEVENT
END:VCALENDAR
