BEGIN:VCALENDAR
VERSION:2.0
METHOD:PUBLISH
PRODID:-//Tendenci - The Open Source AMS for Associations//Tendenci Codeba
 se MIMEDIR//EN
BEGIN:VEVENT
DESCRIPTION:--- This iCal file does *NOT* confirm registration.\nEvent det
 ails subject to change. ---\nhttps://www.avantgardenhouston.com/events/260
 /\n\nEvent Title: Bar open, lots of drink specials, no live music tonight.
 \nStart Date / Time: Apr 21, 2012 18:00 PM US/Central\nLocation: \n\n\n---
  This iCal file does *NOT* confirm registration.Event details subject to c
 hange. ---\n\n--- By Tendenci - The Open Source AMS for Associations ---\n
UID:uid260@avantgardenhouston.com
SUMMARY:Bar open, lots of drink specials, no live music tonight.
DTSTART:20120421T230000Z
DTEND:20120422T043000Z
CLASS:PUBLIC
PRIORITY:5
DTSTAMP:20260419T214444Z
TRANSP:OPAQUE
SEQUENCE:0
X-ALT-DESC;FMTTYPE=text/html:<div>--- This iCal file does *NOT* confirm re
 gistration.Event details subject to change. ---</div><h1>Event Title: Bar 
 open, lots of drink specials, no live music tonight.</h1><div>https://www.
 avantgardenhouston.com/events/260/</div><br /><div>When: Apr 21, 2012 18:0
 0 PM US/Central</div><br /><div></div><div>--- This iCal file does *NOT* c
 onfirm registration.Event details subject to change. ---</div><div>--- Ten
 denci&reg\; Software by <a href="https://www.tendenci.com">tendenci.com</a
 > - The Open Source AMS for Associations ---</div>
BEGIN:VALARM
TRIGGER:-PT30M
ACTION:DISPLAY
DESCRIPTION:Reminder
END:VALARM
END:VEVENT
END:VCALENDAR
