BEGIN:VCALENDAR
VERSION:2.0
METHOD:PUBLISH
PRODID:-//Tendenci - The Open Source AMS for Associations//Tendenci Codeba
 se MIMEDIR//EN
BEGIN:VEVENT
DESCRIPTION:--- This iCal file does *NOT* confirm registration.\nEvent det
 ails subject to change. ---\nhttps://www.avantgardenhouston.com/events/262
 /\n\nEvent Title: Downstairs: chill with us, bring your own music. No cove
 r, and our lovely patio bar will be serving mean and good drinks!\nStart D
 ate / Time: Apr 28, 2012 19:00 PM US/Central\nLocation: AvantGarden 6pm ti
 ll 2am\nDownstairs: chill with us, bring your own music. No cover, and our
  lovely patio bar will be serving mean and good drinks!\n\n--- This iCal f
 ile does *NOT* confirm registration.Event details subject to change. ---\n
 \n--- By Tendenci - The Open Source AMS for Associations ---\n
UID:uid262@avantgardenhouston.com
SUMMARY:Downstairs: chill with us, bring your own music. No cover, and our lovely patio bar will be serving mean and good drinks!
DTSTART:20120429T000000Z
DTEND:20120429T045900Z
CLASS:PUBLIC
PRIORITY:5
DTSTAMP:20260419T214411Z
TRANSP:OPAQUE
SEQUENCE:0
LOCATION:AvantGarden 6pm till 2am
X-ALT-DESC;FMTTYPE=text/html:<div>--- This iCal file does *NOT* confirm re
 gistration.Event details subject to change. ---</div><h1>Event Title: Down
 stairs: chill with us, bring your own music. No cover, and our lovely pati
 o bar will be serving mean and good drinks!</h1><div>https://www.avantgard
 enhouston.com/events/262/</div><br /><div>When: Apr 28, 2012 19:00 PM US/C
 entral</div><br /><div><p>Downstairs: chill with us, bring your own music.
  No cover, and our lovely patio bar will be serving mean and good drinks!<
 /p></div><div>--- This iCal file does *NOT* confirm registration.Event det
 ails subject to change. ---</div><div>--- Tendenci&reg\; Software by <a hr
 ef="https://www.tendenci.com">tendenci.com</a> - The Open Source AMS for A
 ssociations ---</div>
BEGIN:VALARM
TRIGGER:-PT30M
ACTION:DISPLAY
DESCRIPTION:Reminder
END:VALARM
END:VEVENT
END:VCALENDAR
