BEGIN:VCALENDAR
VERSION:2.0
METHOD:PUBLISH
PRODID:-//Tendenci - The Open Source AMS for Associations//Tendenci Codeba
 se MIMEDIR//EN
BEGIN:VEVENT
DESCRIPTION:--- This iCal file does *NOT* confirm registration.\nEvent det
 ails subject to change. ---\nhttps://www.avantgardenhouston.com/events/279
 1/\n\nEvent Title: register\nStart Date / Time: Aug 28, 2018 23:52 PM US/C
 entral\nLocation: \n\n\n--- This iCal file does *NOT* confirm registration
 .Event details subject to change. ---\n\n--- By Tendenci - The Open Source
  AMS for Associations ---\n
UID:uid2791@avantgardenhouston.com
SUMMARY:register
DTSTART:20180829T045200Z
DTEND:20180830T065200Z
CLASS:PUBLIC
PRIORITY:5
DTSTAMP:20260420T092457Z
TRANSP:OPAQUE
SEQUENCE:0
X-ALT-DESC;FMTTYPE=text/html:<div>--- This iCal file does *NOT* confirm re
 gistration.Event details subject to change. ---</div><h1>Event Title: regi
 ster</h1><div>https://www.avantgardenhouston.com/events/2791/</div><br /><
 div>When: Aug 28, 2018 23:52 PM US/Central</div><br /><div></div><div>--- 
 This iCal file does *NOT* confirm registration.Event details subject to ch
 ange. ---</div><div>--- Tendenci&reg\; Software by <a href="https://www.te
 ndenci.com">tendenci.com</a> - The Open Source AMS for Associations ---</d
 iv>
BEGIN:VALARM
TRIGGER:-PT30M
ACTION:DISPLAY
DESCRIPTION:Reminder
END:VALARM
END:VEVENT
END:VCALENDAR
