BEGIN:VCALENDAR
VERSION:2.0
METHOD:PUBLISH
PRODID:-//Tendenci - The Open Source AMS for Associations//Tendenci Codeba
 se MIMEDIR//EN
BEGIN:VEVENT
DESCRIPTION:--- This iCal file does *NOT* confirm registration.\nEvent det
 ails subject to change. ---\nhttps://www.avantgardenhouston.com/events/282
 /\n\nEvent Title: "Aletheia in the Garden"\nStart Date / Time: May 16, 201
 2 19:00 PM US/Central\nLocation: This event takes place In the back patio,
  but it will move indoors during the cold months\n\n\n\nAletheia in the Ga
 rden\n\n\n\n\n\n\nEvery third Wednesday of the month, The Aletheia invites
  you to join us at Avant Garden for a literary and visual arts showcase! A
 letheia in the Garden showcases the best in undergraduate work from the Un
 iversity of Houston. Like us on Facebook for current reading series inform
 ation.\nhttp://www.thealetheiajournal.com/Home.html\n\n\n\n\n--- This iCal
  file does *NOT* confirm registration.Event details subject to change. ---
 \n\n--- By Tendenci - The Open Source AMS for Associations ---\n
UID:uid282@avantgardenhouston.com
SUMMARY:"Aletheia in the Garden"
DTSTART:20120517T000000Z
DTEND:20120517T023000Z
CLASS:PUBLIC
PRIORITY:5
DTSTAMP:20260420T010410Z
TRANSP:OPAQUE
SEQUENCE:0
LOCATION:This event takes place In the back patio, but it will move indoor
 s during the cold months
X-ALT-DESC;FMTTYPE=text/html:<div>--- This iCal file does *NOT* confirm re
 gistration.Event details subject to change. ---</div><h1>Event Title: "Ale
 theia in the Garden"</h1><div>https://www.avantgardenhouston.com/events/28
 2/</div><br /><div>When: May 16, 2012 19:00 PM US/Central</div><br /><div>
 <div id="id4" class="style_SkipStroke"> <div class="text-content graphic_t
 extbox_layout_style_default_External_440_39"> <div class="graphic_textbox_
 layout_style_default"> <p class="paragraph_style_1">Aletheia in the Garden
 </p> </div> </div> </div> <div id="id5" class="style_SkipStroke"> <div cla
 ss="text-content graphic_textbox_layout_style_default_External_440_100"> <
 div class="graphic_textbox_layout_style_default"> <p class="paragraph_styl
 e_2">Every third Wednesday of the month, The Aletheia invites you to join 
 us at Avant Garden for a literary and visual arts showcase! Aletheia in th
 e Garden showcases the best in undergraduate work from the University of H
 ouston. Like us on&nbsp\;<a title="http://www.facebook.com/thealetheiajour
 nal?ref=ts" href="http://www.facebook.com/thealetheiajournal?ref=ts">Faceb
 ook</a>&nbsp\;for current reading series information.</p> <p class="paragr
 aph_style_2"><a href="http://www.thealetheiajournal.com/Home.html">http://
 www.thealetheiajournal.com/Home.html</a></p> </div> </div> </div></div><di
 v>--- This iCal file does *NOT* confirm registration.Event details subject
  to change. ---</div><div>--- Tendenci&reg\; Software by <a href="https://
 www.tendenci.com">tendenci.com</a> - The Open Source AMS for Associations 
 ---</div>
BEGIN:VALARM
TRIGGER:-PT30M
ACTION:DISPLAY
DESCRIPTION:Reminder
END:VALARM
END:VEVENT
END:VCALENDAR
