BEGIN:VCALENDAR
VERSION:2.0
METHOD:PUBLISH
PRODID:-//Tendenci - The Open Source AMS for Associations//Tendenci Codeba
 se MIMEDIR//EN
BEGIN:VEVENT
DESCRIPTION:--- This iCal file does *NOT* confirm registration.\nEvent det
 ails subject to change. ---\nhttps://www.avantgardenhouston.com/events/288
 /\n\nEvent Title: BROTHERS GRYMN\nStart Date / Time: May 12, 2012 23:15 PM
  US/Central\nLocation: AvantGarden 11.15 pm till 2am\nAssembled entirely o
 f veterans of the Houston music scene, Brothers Grymn is quickly emerging 
 as a new favorite. Despite being in its infant stage, the band has enjoyed
  relative success due mostly to its core group of highly dedicated followe
 rs and fans. The project is a recapture and declaration of the commanding 
 style of funk that was so popular in the Texas local ranks during the 1990
 ’s. That being said, the approach is completely new and totally fresh. T
 he beats are lively and the lyrics are intricate. And both are delivered w
 ith a power and force exceptional from most alternative acts currently cir
 culating the scene. Complete with DJ and master shred guitar, the style is
  distinct and compelling and sure to incite you from your seat and onto th
 e dance floor.\n\n\n--- This iCal file does *NOT* confirm registration.Eve
 nt details subject to change. ---\n\n--- By Tendenci - The Open Source AMS
  for Associations ---\n
UID:uid288@avantgardenhouston.com
SUMMARY:BROTHERS GRYMN
DTSTART:20120513T041500Z
DTEND:20120513T041500Z
CLASS:PUBLIC
PRIORITY:5
DTSTAMP:20260419T232133Z
TRANSP:OPAQUE
SEQUENCE:0
LOCATION:AvantGarden 11.15 pm till 2am
X-ALT-DESC;FMTTYPE=text/html:<div>--- This iCal file does *NOT* confirm re
 gistration.Event details subject to change. ---</div><h1>Event Title: BROT
 HERS GRYMN</h1><div>https://www.avantgardenhouston.com/events/288/</div><b
 r /><div>When: May 12, 2012 23:15 PM US/Central</div><br /><div>Assembled 
 entirely of veterans of the Houston music scene, Brothers Grymn is quickly
  emerging as a new favorite. Despite being in its infant stage, the band h
 as enjoyed relative success due mostly to its core group of highly dedicat
 ed followers and fans. The project is a recapture and declaration of the c
 ommanding style of funk that was so popular in the Texas local ranks durin
 g the 1990’s. That being said, the approach is completely new and totall
 y fresh. The beats are lively and the lyrics are intricate. And both are d
 elivered with a power and force exceptional from most alternative acts cur
 rently circulating the scene. Complete with DJ and master shred guitar, th
 e style is distinct and compelling and sure to incite you from your seat a
 nd onto the dance floor. </div><div>--- This iCal file does *NOT* confirm 
 registration.Event details subject to change. ---</div><div>--- Tendenci&r
 eg\; Software by <a href="https://www.tendenci.com">tendenci.com</a> - The
  Open Source AMS for Associations ---</div>
BEGIN:VALARM
TRIGGER:-PT30M
ACTION:DISPLAY
DESCRIPTION:Reminder
END:VALARM
END:VEVENT
END:VCALENDAR
