BEGIN:VCALENDAR
VERSION:2.0
METHOD:PUBLISH
PRODID:-//Tendenci - The Open Source AMS for Associations//Tendenci Codeba
 se MIMEDIR//EN
BEGIN:VEVENT
DESCRIPTION:--- This iCal file does *NOT* confirm registration.\nEvent det
 ails subject to change. ---\nhttps://www.avantgardenhouston.com/events/291
 /\n\nEvent Title: No Milk\nStart Date / Time: May 06, 2012 19:00 PM US/Cen
 tral\nLocation: No Milk, improvisational music\nhttp://soundcloud.com/no-m
 ilk\nhttp://antparade.blogspot.com/2011/02/new-no-milk-music-page.html\n\n
 --- This iCal file does *NOT* confirm registration.Event details subject t
 o change. ---\n\n--- By Tendenci - The Open Source AMS for Associations --
 -\n
UID:uid291@avantgardenhouston.com
SUMMARY:No Milk
DTSTART:20120507T000000Z
DTEND:20120507T023000Z
CLASS:PUBLIC
PRIORITY:5
DTSTAMP:20260419T214446Z
TRANSP:OPAQUE
SEQUENCE:0
LOCATION:No Milk, improvisational music
X-ALT-DESC;FMTTYPE=text/html:<div>--- This iCal file does *NOT* confirm re
 gistration.Event details subject to change. ---</div><h1>Event Title: No M
 ilk</h1><div>https://www.avantgardenhouston.com/events/291/</div><br /><di
 v>When: May 06, 2012 19:00 PM US/Central</div><br /><div><p><a href="http:
 //soundcloud.com/no-milk">http://soundcloud.com/no-milk</a></p> <p><a href
 ="http://antparade.blogspot.com/2011/02/new-no-milk-music-page.html">http:
 //antparade.blogspot.com/2011/02/new-no-milk-music-page.html</a></p></div>
 <div>--- This iCal file does *NOT* confirm registration.Event details subj
 ect to change. ---</div><div>--- Tendenci&reg\; Software by <a href="https
 ://www.tendenci.com">tendenci.com</a> - The Open Source AMS for Associatio
 ns ---</div>
BEGIN:VALARM
TRIGGER:-PT30M
ACTION:DISPLAY
DESCRIPTION:Reminder
END:VALARM
END:VEVENT
END:VCALENDAR
