BEGIN:VCALENDAR
VERSION:2.0
METHOD:PUBLISH
PRODID:-//Tendenci - The Open Source AMS for Associations//Tendenci Codeba
 se MIMEDIR//EN
BEGIN:VEVENT
DESCRIPTION:--- This iCal file does *NOT* confirm registration.\nEvent det
 ails subject to change. ---\nhttps://www.avantgardenhouston.com/events/292
 /\n\nEvent Title:  Amici Miei classic Italian movie outdoors\nStart Date /
  Time: May 06, 2012 20:15 PM US/Central\nLocation: \n\n\n--- This iCal fil
 e does *NOT* confirm registration.Event details subject to change. ---\n\n
 --- By Tendenci - The Open Source AMS for Associations ---\n
UID:uid292@avantgardenhouston.com
SUMMARY: Amici Miei classic Italian movie outdoors
DTSTART:20120507T011500Z
DTEND:20120507T040000Z
CLASS:PUBLIC
PRIORITY:5
DTSTAMP:20260419T214343Z
TRANSP:OPAQUE
SEQUENCE:0
X-ALT-DESC;FMTTYPE=text/html:<div>--- This iCal file does *NOT* confirm re
 gistration.Event details subject to change. ---</div><h1>Event Title:  Ami
 ci Miei classic Italian movie outdoors</h1><div>https://www.avantgardenhou
 ston.com/events/292/</div><br /><div>When: May 06, 2012 20:15 PM US/Centra
 l</div><br /><div></div><div>--- This iCal file does *NOT* confirm registr
 ation.Event details subject to change. ---</div><div>--- Tendenci&reg\; So
 ftware by <a href="https://www.tendenci.com">tendenci.com</a> - The Open S
 ource AMS for Associations ---</div>
BEGIN:VALARM
TRIGGER:-PT30M
ACTION:DISPLAY
DESCRIPTION:Reminder
END:VALARM
END:VEVENT
END:VCALENDAR
