BEGIN:VCALENDAR
VERSION:2.0
METHOD:PUBLISH
PRODID:-//Tendenci - The Open Source AMS for Associations//Tendenci Codeba
 se MIMEDIR//EN
BEGIN:VEVENT
DESCRIPTION:--- This iCal file does *NOT* confirm registration.\nEvent det
 ails subject to change. ---\nhttps://www.avantgardenhouston.com/events/295
 /\n\nEvent Title: Calvin Stanley Vs Hank Schyma\nStart Date / Time: Apr 29
 , 2012 21:00 PM US/Central\nLocation: \n\n\n--- This iCal file does *NOT* 
 confirm registration.Event details subject to change. ---\n\n--- By Tenden
 ci - The Open Source AMS for Associations ---\n
UID:uid295@avantgardenhouston.com
SUMMARY:Calvin Stanley Vs Hank Schyma
DTSTART:20120430T020000Z
DTEND:20120430T043000Z
CLASS:PUBLIC
PRIORITY:5
DTSTAMP:20260419T232000Z
TRANSP:OPAQUE
SEQUENCE:0
X-ALT-DESC;FMTTYPE=text/html:<div>--- This iCal file does *NOT* confirm re
 gistration.Event details subject to change. ---</div><h1>Event Title: Calv
 in Stanley Vs Hank Schyma</h1><div>https://www.avantgardenhouston.com/even
 ts/295/</div><br /><div>When: Apr 29, 2012 21:00 PM US/Central</div><br />
 <div></div><div>--- This iCal file does *NOT* confirm registration.Event d
 etails subject to change. ---</div><div>--- Tendenci&reg\; Software by <a 
 href="https://www.tendenci.com">tendenci.com</a> - The Open Source AMS for
  Associations ---</div>
BEGIN:VALARM
TRIGGER:-PT30M
ACTION:DISPLAY
DESCRIPTION:Reminder
END:VALARM
END:VEVENT
END:VCALENDAR
