BEGIN:VCALENDAR
VERSION:2.0
METHOD:PUBLISH
PRODID:-//Tendenci - The Open Source AMS for Associations//Tendenci Codeba
 se MIMEDIR//EN
BEGIN:VEVENT
DESCRIPTION:--- This iCal file does *NOT* confirm registration.\nEvent det
 ails subject to change. ---\nhttps://www.avantgardenhouston.com/events/297
 /\n\nEvent Title: fashion runway\nStart Date / Time: May 20, 2012 18:00 PM
  US/Central\nLocation: \n\n\n--- This iCal file does *NOT* confirm registr
 ation.Event details subject to change. ---\n\n--- By Tendenci - The Open S
 ource AMS for Associations ---\n
UID:uid297@avantgardenhouston.com
SUMMARY:fashion runway
DTSTART:20120520T230000Z
DTEND:20120521T043000Z
CLASS:PUBLIC
PRIORITY:5
DTSTAMP:20260419T232139Z
TRANSP:OPAQUE
SEQUENCE:0
X-ALT-DESC;FMTTYPE=text/html:<div>--- This iCal file does *NOT* confirm re
 gistration.Event details subject to change. ---</div><h1>Event Title: fash
 ion runway</h1><div>https://www.avantgardenhouston.com/events/297/</div><b
 r /><div>When: May 20, 2012 18:00 PM US/Central</div><br /><div></div><div
 >--- This iCal file does *NOT* confirm registration.Event details subject 
 to change. ---</div><div>--- Tendenci&reg\; Software by <a href="https://w
 ww.tendenci.com">tendenci.com</a> - The Open Source AMS for Associations -
 --</div>
BEGIN:VALARM
TRIGGER:-PT30M
ACTION:DISPLAY
DESCRIPTION:Reminder
END:VALARM
END:VEVENT
END:VCALENDAR
