BEGIN:VCALENDAR
VERSION:2.0
METHOD:PUBLISH
PRODID:-//Tendenci - The Open Source AMS for Associations//Tendenci Codeba
 se MIMEDIR//EN
BEGIN:VEVENT
DESCRIPTION:--- This iCal file does *NOT* confirm registration.\nEvent det
 ails subject to change. ---\nhttps://www.avantgardenhouston.com/events/3/\
 n\nEvent Title: Private party 4-10 pm\nStart Date / Time: Oct 22, 2011 16:
 00 PM US/Central\nLocation: \nWedding celebration from 4 to 10pm.\nOpens t
 o the public again at 10pm.\n\n--- This iCal file does *NOT* confirm regis
 tration.Event details subject to change. ---\n\n--- By Tendenci - The Open
  Source AMS for Associations ---\n
UID:uid3@avantgardenhouston.com
SUMMARY:Private party 4-10 pm
DTSTART:20111022T210000Z
DTEND:20111023T030000Z
CLASS:PUBLIC
PRIORITY:5
DTSTAMP:20260419T145700Z
TRANSP:OPAQUE
SEQUENCE:0
X-ALT-DESC;FMTTYPE=text/html:<div>--- This iCal file does *NOT* confirm re
 gistration.Event details subject to change. ---</div><h1>Event Title: Priv
 ate party 4-10 pm</h1><div>https://www.avantgardenhouston.com/events/3/</d
 iv><br /><div>When: Oct 22, 2011 16:00 PM US/Central</div><br /><div><p>We
 dding celebration from 4 to 10pm.</p> <p>Opens to the public again at 10pm
 .</p></div><div>--- This iCal file does *NOT* confirm registration.Event d
 etails subject to change. ---</div><div>--- Tendenci&reg\; Software by <a 
 href="https://www.tendenci.com">tendenci.com</a> - The Open Source AMS for
  Associations ---</div>
BEGIN:VALARM
TRIGGER:-PT30M
ACTION:DISPLAY
DESCRIPTION:Reminder
END:VALARM
END:VEVENT
END:VCALENDAR
