BEGIN:VCALENDAR
VERSION:2.0
METHOD:PUBLISH
PRODID:-//Tendenci - The Open Source AMS for Associations//Tendenci Codeba
 se MIMEDIR//EN
BEGIN:VEVENT
DESCRIPTION:--- This iCal file does *NOT* confirm registration.\nEvent det
 ails subject to change. ---\nhttps://www.avantgardenhouston.com/events/303
 /\n\nEvent Title: Private Party 3pm till 8pm\nStart Date / Time: May 19, 2
 012 00:05 AM US/Central\nLocation: Entire Venue. Invitations only till 8pm
 \n\n\n--- This iCal file does *NOT* confirm registration.Event details sub
 ject to change. ---\n\n--- By Tendenci - The Open Source AMS for Associati
 ons ---\n
UID:uid303@avantgardenhouston.com
SUMMARY:Private Party 3pm till 8pm
DTSTART:20120519T050500Z
DTEND:20120519T070500Z
CLASS:PUBLIC
PRIORITY:5
DTSTAMP:20260420T010408Z
TRANSP:OPAQUE
SEQUENCE:0
LOCATION:Entire Venue. Invitations only till 8pm
X-ALT-DESC;FMTTYPE=text/html:<div>--- This iCal file does *NOT* confirm re
 gistration.Event details subject to change. ---</div><h1>Event Title: Priv
 ate Party 3pm till 8pm</h1><div>https://www.avantgardenhouston.com/events/
 303/</div><br /><div>When: May 19, 2012 00:05 AM US/Central</div><br /><di
 v></div><div>--- This iCal file does *NOT* confirm registration.Event deta
 ils subject to change. ---</div><div>--- Tendenci&reg\; Software by <a hre
 f="https://www.tendenci.com">tendenci.com</a> - The Open Source AMS for As
 sociations ---</div>
BEGIN:VALARM
TRIGGER:-PT30M
ACTION:DISPLAY
DESCRIPTION:Reminder
END:VALARM
END:VEVENT
END:VCALENDAR
