BEGIN:VCALENDAR
VERSION:2.0
METHOD:PUBLISH
PRODID:-//Tendenci - The Open Source AMS for Associations//Tendenci Codeba
 se MIMEDIR//EN
BEGIN:VEVENT
DESCRIPTION:--- This iCal file does *NOT* confirm registration.\nEvent det
 ails subject to change. ---\nhttps://www.avantgardenhouston.com/events/307
 /\n\nEvent Title: The Trimms\nStart Date / Time: May 24, 2012 21:45 PM US/
 Central\nLocation: AvantGarden 10pm till 2am\n\n\n--- This iCal file does 
 *NOT* confirm registration.Event details subject to change. ---\n\n--- By 
 Tendenci - The Open Source AMS for Associations ---\n
UID:uid307@avantgardenhouston.com
SUMMARY:The Trimms
DTSTART:20120525T024500Z
DTEND:20120525T024500Z
CLASS:PUBLIC
PRIORITY:5
DTSTAMP:20260419T232048Z
TRANSP:OPAQUE
SEQUENCE:0
LOCATION:AvantGarden 10pm till 2am
X-ALT-DESC;FMTTYPE=text/html:<div>--- This iCal file does *NOT* confirm re
 gistration.Event details subject to change. ---</div><h1>Event Title: The 
 Trimms</h1><div>https://www.avantgardenhouston.com/events/307/</div><br />
 <div>When: May 24, 2012 21:45 PM US/Central</div><br /><div></div><div>---
  This iCal file does *NOT* confirm registration.Event details subject to c
 hange. ---</div><div>--- Tendenci&reg\; Software by <a href="https://www.t
 endenci.com">tendenci.com</a> - The Open Source AMS for Associations ---</
 div>
BEGIN:VALARM
TRIGGER:-PT30M
ACTION:DISPLAY
DESCRIPTION:Reminder
END:VALARM
END:VEVENT
END:VCALENDAR
